Workbook

Sheet 3-1 data
A1: 날짜 | B1: 수익률
A2: 2001/01 | B2: 0.22450557
A3: 2001/02 | B3: -0.064426858
A4: 2001/03 | B4: -0.094931673
A5: 2001/04 | B5: 0.10347464
A6: 2001/05 | B6: 0.060274352
A7: 2001/06 | B7: -0.027819524
A8: 2001/07 | B8: -0.09003075
A9: 2001/08 | B9: 0.0065737236
A10: 2001/09 | B10: -0.12003082
A11: 2001/10 | B11: 0.12118496
A12: 2001/11 | B12: 0.19724438
A13: 2001/12 | B13: 0.077357934
... A277: 2023/12 | B277: 0.047327919

Sheet 3-1 stat
B3: ◆ 도수분포표
B5: 구간 | C5: 누적도수 | D5: 도수
B6: =MIN('3-1 data'!$B$2:$B$277)+(MAX('3-1 data'!$B$2:$B$277)-MIN('3-1 data'!$B$2:$B$277))*0.1 -> -0.18575905 | C6: =FREQUENCY('3-1 data'!$B$2:$B$277,B6) -> 1 | D6: =C6 -> 1
B7: =MIN('3-1 data'!$B$2:$B$277)+(MAX('3-1 data'!$B$2:$B$277)-MIN('3-1 data'!$B$2:$B$277))*0.2 -> -0.14017409 | C7: =FREQUENCY('3-1 data'!$B$2:$B$277,B7) -> 2 | D7: =C7-C6 -> 1
B8: =MIN('3-1 data'!$B$2:$B$277)+(MAX('3-1 data'!$B$2:$B$277)-MIN('3-1 data'!$B$2:$B$277))*0.3 -> -0.094589133 | C8: =FREQUENCY('3-1 data'!$B$2:$B$277,B8) -> 14 | D8: =C8-C7 -> 12
B9: =MIN('3-1 data'!$B$2:$B$277)+(MAX('3-1 data'!$B$2:$B$277)-MIN('3-1 data'!$B$2:$B$277))*0.4 -> -0.049004176 | C9: =FREQUENCY('3-1 data'!$B$2:$B$277,B9) -> 42 | D9: =C9-C8 -> 28
B10: =MIN('3-1 data'!$B$2:$B$277)+(MAX('3-1 data'!$B$2:$B$277)-MIN('3-1 data'!$B$2:$B$277))*0.5 -> -0.0034192183 | C10: =FREQUENCY('3-1 data'!$B$2:$B$277,B10) -> 113 | D10: =C10-C9 -> 71
B11: =MIN('3-1 data'!$B$2:$B$277)+(MAX('3-1 data'!$B$2:$B$277)-MIN('3-1 data'!$B$2:$B$277))*0.6 -> 0.042165739 | C11: =FREQUENCY('3-1 data'!$B$2:$B$277,B11) -> 211 | D11: =C11-C10 -> 98
B12: =MIN('3-1 data'!$B$2:$B$277)+(MAX('3-1 data'!$B$2:$B$277)-MIN('3-1 data'!$B$2:$B$277))*0.7 -> 0.087750696 | C12: =FREQUENCY('3-1 data'!$B$2:$B$277,B12) -> 254 | D12: =C12-C11 -> 43
B13: =MIN('3-1 data'!$B$2:$B$277)+(MAX('3-1 data'!$B$2:$B$277)-MIN('3-1 data'!$B$2:$B$277))*0.8 -> 0.13333565 | C13: =FREQUENCY('3-1 data'!$B$2:$B$277,B13) -> 271 | D13: =C13-C12 -> 17
B14: =MIN('3-1 data'!$B$2:$B$277)+(MAX('3-1 data'!$B$2:$B$277)-MIN('3-1 data'!$B$2:$B$277))*0.9 -> 0.17892061 | C14: =FREQUENCY('3-1 data'!$B$2:$B$277,B14) -> 274 | D14: =C14-C13 -> 3
B15: =MIN('3-1 data'!$B$2:$B$277)+(MAX('3-1 data'!$B$2:$B$277)-MIN('3-1 data'!$B$2:$B$277))*1 -> 0.22450557 | C15: =FREQUENCY('3-1 data'!$B$2:$B$277,B15) -> 276 | D15: =C15-C14 -> 2
B21: ◆ Summary Stats
B23: 평균 | C23: =AVERAGE('3-1 data'!B2:B277) -> 0.0077903856 | D23: =AVERAGE(셀범위)
B24: 분산 | C24: =VAR('3-1 data'!B2:B277) -> 0.003516343 | D24: =VAR(셀범위)
B25: 표준편차 | C25: =STDEV('3-1 data'!B2:B277) -> 0.05929876 | D25: =STDEV(셀범위)
B26: 최대값 | C26: =MAX('3-1 data'!B2:B277) -> 0.22450557 | D26: =MAX(셀범위)
B27: 최소값 | C27: =MIN('3-1 data'!B2:B277) -> -0.23134401 | D27: =MIN(셀범위)
B28: 1사분위수 | C28: =QUARTILE('3-1 data'!B2:B277,1) -> -0.025123063 | D28: =QUARTILE(셀범위,1)
B29: 중앙값 | C29: =QUARTILE('3-1 data'!B2:B277,2) -> 0.0095293485 | D29: =QUARTILE(셀범위,2)
B30: 3사분위수 | C30: =QUARTILE('3-1 data'!B2:B277,3) -> 0.041078324 | D30: =QUARTILE(셀범위,3)

Sheet 3-2 분산투자
B2: 구분 | C2: 기대수익률 | D2: 표준편차 | E2: 상관계수
B3: A | C3: 0.15 | D3: 0.4 | E3: 0
B4: B | C4: 0.05 | D4: 0.16
B6: 투자비율A | C6: 투자비율B | D6: 포트폴리오 기대수익률 | E6: 포트폴리오 표준편차
B7: 0 | C7: =1-B7 -> 1 | D7: =B7*$C$3+C7*$C$4 -> 0.05 | E7: =SQRT(B7*B7*$D$3*$D$3+C7*C7*$D$4*$D$4+2*B7*C7*$E$3*$D$3*$D$4) -> 0.16
B8: 0.1 | C8: =1-B8 -> 0.9 | D8: =B8*$C$3+C8*$C$4 -> 0.06 | E8: =SQRT(B8*B8*$D$3*$D$3+C8*C8*$D$4*$D$4+2*B8*C8*$E$3*$D$3*$D$4) -> 0.14945233
B9: 0.2 | C9: =1-B9 -> 0.8 | D9: =B9*$C$3+C9*$C$4 -> 0.07 | E9: =SQRT(B9*B9*$D$3*$D$3+C9*C9*$D$4*$D$4+2*B9*C9*$E$3*$D$3*$D$4) -> 0.1509437
B10: 0.3 | C10: =1-B10 -> 0.7 | D10: =B10*$C$3+C10*$C$4 -> 0.08 | E10: =SQRT(B10*B10*$D$3*$D$3+C10*C10*$D$4*$D$4+2*B10*C10*$E$3*$D$3*$D$4) -> 0.16414628
B11: 0.4 | C11: =1-B11 -> 0.6 | D11: =B11*$C$3+C11*$C$4 -> 0.09 | E11: =SQRT(B11*B11*$D$3*$D$3+C11*C11*$D$4*$D$4+2*B11*C11*$E$3*$D$3*$D$4) -> 0.18659046
B12: 0.5 | C12: =1-B12 -> 0.5 | D12: =B12*$C$3+C12*$C$4 -> 0.1 | E12: =SQRT(B12*B12*$D$3*$D$3+C12*C12*$D$4*$D$4+2*B12*C12*$E$3*$D$3*$D$4) -> 0.21540659
B13: 0.6 | C13: =1-B13 -> 0.4 | D13: =B13*$C$3+C13*$C$4 -> 0.11 | E13: =SQRT(B13*B13*$D$3*$D$3+C13*C13*$D$4*$D$4+2*B13*C13*$E$3*$D$3*$D$4) -> 0.2483868
B14: 0.7 | C14: =1-B14 -> 0.3 | D14: =B14*$C$3+C14*$C$4 -> 0.12 | E14: =SQRT(B14*B14*$D$3*$D$3+C14*C14*$D$4*$D$4+2*B14*C14*$E$3*$D$3*$D$4) -> 0.28408449
B15: 0.8 | C15: =1-B15 -> 0.2 | D15: =B15*$C$3+C15*$C$4 -> 0.13 | E15: =SQRT(B15*B15*$D$3*$D$3+C15*C15*$D$4*$D$4+2*B15*C15*$E$3*$D$3*$D$4) -> 0.32159602
B16: 0.9 | C16: =1-B16 -> 0.1 | D16: =B16*$C$3+C16*$C$4 -> 0.14 | E16: =SQRT(B16*B16*$D$3*$D$3+C16*C16*$D$4*$D$4+2*B16*C16*$E$3*$D$3*$D$4) -> 0.36035538
B17: 1 | C17: =1-B17 -> 0 | D17: =B17*$C$3+C17*$C$4 -> 0.15 | E17: =SQRT(B17*B17*$D$3*$D$3+C17*C17*$D$4*$D$4+2*B17*C17*$E$3*$D$3*$D$4) -> 0.4

Sheet 3-3 수익률
A1: 날짜 | B1: 코스피대형주 | C1: 코스피중형주 | D1: 코스피소형주 | E1: 코스닥 | F1: 무담보콜금리 전체 | G1: CD(91일) | H1: CP(91일) | I1: 국민주택채권1종(5년) | J1: 국고채(1년) | K1: 국고채(3년) | L1: 국고채(5년) | M1: 국고채(10년) | N1: 통안증권(1년) | O1: 산금채(1년) | P1: 회사채(3년, AA-) | Q1: 회사채(3년, BBB-)
A2: 2001/01 | B2: 0.22989278 | C2: 0.22305382 | D2: 0.2075834 | E2: 0.60441232 | F2: 0.0044333333 | G2: 0.0053583333 | H2: 0.0058083333 | I2: 0.0054 | J2: 0.0050333333 | K2: 0.0049916667 | L2: 0.0051666667 | M2: 0.0055416667 | N2: 0.0050416667 | O2: 0.0051166667 | P2: 0.0064666667 | Q2: 0.0097083333 | S2: ◆ 도수분포표
A3: 2001/02 | B3: -0.084776415 | C3: 0.017848374 | D3: 0.057544199 | E3: -0.09009009 | F3: 0.004275 | G3: 0.004775 | H3: 0.0052416667 | I3: 0.0051333333 | J3: 0.0045916667 | K3: 0.004525 | L3: 0.0048 | M3: 0.0053416667 | N3: 0.0046083333 | O3: 0.0047333333 | P3: 0.0056583333 | Q3: 0.0097 | S3: 코스피대형주
A4: 2001/03 | B4: -0.08478115 | C4: -0.1056206 | D4: -0.094570489 | E4: -0.10852006 | F4: 0.0041916667 | G4: 0.0047333333 | H4: 0.0051166667 | I4: 0.00575 | J4: 0.0048416667 | K4: 0.0048666667 | L4: 0.0053333333 | M4: 0.0058333333 | N4: 0.00485 | O4: 0.00495 | P4: 0.0059666667 | Q4: 0.01005 | S4: 구간 | T4: 누적도수 | U4: 도수
A5: 2001/04 | B5: 0.1138993 | C5: 0.041204174 | D5: 0.000634993 | E5: 0.15402601 | F5: 0.004175 | G5: 0.0048666667 | H5: 0.0051166667 | I5: 0.0063166667 | J5: 0.0051666667 | K5: 0.0054916667 | L5: 0.0060333333 | M5: 0.00645 | N5: 0.005175 | O5: 0.0052666667 | P5: 0.0065916667 | Q5: 0.010516667 | S5: =MIN($B$2:$B$277)+(MAX($B$2:$B$277)-MIN($B$2:$B$277))*0.1 -> -0.18831469 | T5: =FREQUENCY($B$2:$B$277,S5) -> 2 | U5: =T5 -> 2
A6: 2001/05 | B6: 0.045220158 | C6: 0.15251569 | D6: 0.10006997 | E6: 0.030138027 | F6: 0.0041833333 | G6: 0.004875 | H6: 0.0051083333 | I6: 0.0061916667 | J6: 0.0050833333 | K6: 0.0053833333 | L6: 0.005875 | M6: 0.0063166667 | N6: 0.0050833333 | O6: 0.0051583333 | P6: 0.0064166667 | Q6: 0.0102 | S6: =MIN($B$2:$B$277)+(MAX($B$2:$B$277)-MIN($B$2:$B$277))*0.2 -> -0.14184719 | T6: =FREQUENCY($B$2:$B$277,S6) -> 2 | U6: =T6-T5 -> 0
A7: 2001/06 | B7: -0.04781232 | C7: 0.037638963 | D7: -0.0035943024 | E7: -0.055070682 | F7: 0.0041833333 | G7: 0.0047083333 | H7: 0.004825 | I7: 0.0057583333 | J7: 0.0048333333 | K7: 0.0050333333 | L7: 0.0054083333 | M7: 0.00595 | N7: 0.0048333333 | O7: 0.0049 | P7: 0.0060333333 | Q7: 0.0095333333 | S7: =MIN($B$2:$B$277)+(MAX($B$2:$B$277)-MIN($B$2:$B$277))*0.3 -> -0.095379696 | T7: =FREQUENCY($B$2:$B$277,S7) -> 14 | U7: =T7-T6 -> 12
A8: 2001/07 | B8: -0.085378849 | C8: -0.13498067 | D8: -0.11418562 | E8: -0.11421881 | F8: 0.0040083333 | G8: 0.0044333333 | H8: 0.0045833333 | I8: 0.0055 | J8: 0.0045583333 | K8: 0.0047916667 | L8: 0.0051416667 | M8: 0.0056916667 | N8: 0.00455 | O8: 0.004625 | P8: 0.0058333333 | Q8: 0.0092666667 | S8: =MIN($B$2:$B$277)+(MAX($B$2:$B$277)-MIN($B$2:$B$277))*0.4 -> -0.0489122 | T8: =FREQUENCY($B$2:$B$277,S8) -> 41 | U8: =T8-T7 -> 27
A9: 2001/08 | B9: 0.011851911 | C9: 0.00032745835 | D9: -0.054916879 | E9: -0.091790278 | F9: 0.0038333333 | G9: 0.0041 | H9: 0.0042166667 | I9: 0.0050583333 | J9: 0.0042083333 | K9: 0.0042916667 | L9: 0.004525 | M9: 0.0052416667 | N9: 0.0042083333 | O9: 0.0042416667 | P9: 0.005425 | Q9: 0.0088666667 | S9: =MIN($B$2:$B$277)+(MAX($B$2:$B$277)-MIN($B$2:$B$277))*0.5 -> -0.0024447044 | T9: =FREQUENCY($B$2:$B$277,S9) -> 108 | U9: =T9-T8 -> 67
A10: 2001/09 | B10: -0.13003514 | C10: -0.067780944 | D10: -0.13109318 | E10: -0.16494179 | F10: 0.0036083333 | G10: 0.0038833333 | H10: 0.0040416667 | I10: 0.005 | J10: 0.0039583333 | K10: 0.004075 | L10: 0.0043416667 | M10: 0.0051583333 | N10: 0.0039583333 | O10: 0.0040166667 | P10: 0.0052666667 | Q10: 0.0087583333 | S10: =MIN($B$2:$B$277)+(MAX($B$2:$B$277)-MIN($B$2:$B$277))*0.6 -> 0.044022792 | T10: =FREQUENCY($B$2:$B$277,S10) -> 210 | U10: =T10-T9 -> 102
A11: 2001/10 | B11: 0.12359371 | C11: 0.07727423 | D11: 0.1160973 | E11: 0.21127033 | F11: 0.00335 | G11: 0.0036333333 | H11: 0.0038166667 | I11: 0.005175 | J11: 0.0036833333 | K11: 0.00395 | L11: 0.0047083333 | M11: 0.00545 | N11: 0.0036833333 | O11: 0.0037666667 | P11: 0.0052583333 | Q11: 0.0087083333 | S11: =MIN($B$2:$B$277)+(MAX($B$2:$B$277)-MIN($B$2:$B$277))*0.7 -> 0.090490288 | T11: =FREQUENCY($B$2:$B$277,S11) -> 255 | U11: =T11-T10 -> 45
A12: 2001/11 | B12: 0.20521153 | C12: 0.19881886 | D12: 0.060741255 | E12: 0.12741807 | F12: 0.0033583333 | G12: 0.003775 | H12: 0.003925 | I12: 0.0055416667 | J12: 0.0040666667 | K12: 0.00445 | L12: 0.0051666667 | M12: 0.0057333333 | N12: 0.0040666667 | O12: 0.0041416667 | P12: 0.0056583333 | Q12: 0.0090833333 | S12: =MIN($B$2:$B$277)+(MAX($B$2:$B$277)-MIN($B$2:$B$277))*0.8 -> 0.13695778 | T12: =FREQUENCY($B$2:$B$277,S12) -> 272 | U12: =T12-T11 -> 17
A13: 2001/12 | B13: 0.087983013 | C13: 0.046175746 | D13: -0.042542189 | E13: 0.023964833 | F13: 0.0033416667 | G13: 0.0040333333 | H13: 0.0042 | I13: 0.0057833333 | J13: 0.00445 | K13: 0.0049416667 | L13: 0.00555 | M13: 0.0058416667 | N13: 0.0044583333 | O13: 0.0045333333 | P13: 0.005925 | Q13: 0.0093666667 | S13: =MIN($B$2:$B$277)+(MAX($B$2:$B$277)-MIN($B$2:$B$277))*0.9 -> 0.18342528 | T13: =FREQUENCY($B$2:$B$277,S13) -> 273 | U13: =T13-T12 -> 1
A14: 2002/01 | B14: 0.059818469 | C14: 0.16066596 | D14: 0.12660005 | E14: 0.071319762 | F14: 0.003325 | G14: 0.0039916667 | H14: 0.0041333333 | I14: 0.0058166667 | J14: 0.0043583333 | K14: 0.0050666667 | L14: 0.0057083333 | M14: 0.0059166667 | N14: 0.0043583333 | O14: 0.00445 | P14: 0.0058916667 | Q14: 0.0093583333 | S14: =MIN($B$2:$B$277)+(MAX($B$2:$B$277)-MIN($B$2:$B$277))*1 -> 0.22989278 | T14: =FREQUENCY($B$2:$B$277,S14) -> 275 | U14: =T14-T13 -> 2
A15: 2002/02 | B15: 0.11028294 | C15: 0.092665771 | D15: 0.036978443 | E15: 0.017450879 | F15: 0.00335 | G15: 0.0037833333 | H15: 0.0039 | I15: 0.0057166667 | J15: 0.0041333333 | K15: 0.0049333333 | L15: 0.00555 | M15: 0.0058333333 | N15: 0.0041416667 | O15: 0.0042333333 | P15: 0.0057416667 | Q15: 0.0092083333
A16: 2002/03 | B16: 0.1071344 | C16: 0.10809736 | D16: 0.072259635 | E16: 0.17812222 | F16: 0.0033583333 | G16: 0.0038666667 | H16: 0.004025 | I16: 0.0058916667 | J16: 0.0043833333 | K16: 0.00525 | L16: 0.0058083333 | M16: 0.005975 | N16: 0.0043833333 | O16: 0.004475 | P16: 0.005875 | Q16: 0.0092916667 | S16: 코스피중형주
A17: 2002/04 | B17: -0.052075283 | C17: -0.14578982 | D17: -0.16175625 | E17: -0.20910169 | F17: 0.0033583333 | G17: 0.0039916667 | H17: 0.0040916667 | I17: 0.00595 | J17: 0.0045166667 | K17: 0.0053916667 | L17: 0.0058833333 | M17: 0.0060833333 | N17: 0.0045166667 | O17: 0.004625 | P17: 0.006 | Q17: 0.009325 | S17: 구간 | T17: 누적도수 | U17: 도수
A18: 2002/05 | B18: -0.061746667 | C18: -0.089608884 | D18: -0.026455208 | E18: -0.048541042 | F18: 0.00355 | G18: 0.0040083333 | H18: 0.0041083333 | I18: 0.0058 | J18: 0.0045166667 | K18: 0.00525 | L18: 0.0056666667 | M18: 0.0059083333 | N18: 0.0045166667 | O18: 0.0046083333 | P18: 0.0058916667 | Q18: 0.0091916667 | S18: =MIN($C$2:$C$277)+(MAX($C$2:$C$277)-MIN($C$2:$C$277))*0.1 -> -0.24868056 | T18: =FREQUENCY($C$2:$C$277,S18) -> 2 | U18: =T18 -> 2
A19: 2002/06 | B19: -0.062815817 | C19: -0.0816278 | D19: -0.12898454 | E19: -0.12797363 | F19: 0.0035916667 | G19: 0.0040416667 | H19: 0.0041333333 | I19: 0.0055333333 | J19: 0.0044833333 | K19: 0.0049416667 | L19: 0.005275 | M19: 0.0056333333 | N19: 0.0044833333 | O19: 0.0045583333 | P19: 0.0056333333 | Q19: 0.0089083333 | S19: =MIN($C$2:$C$277)+(MAX($C$2:$C$277)-MIN($C$2:$C$277))*0.2 -> -0.18061546 | T19: =FREQUENCY($C$2:$C$277,S19) -> 3 | U19: =T19-T18 -> 1
A20: 2002/07 | B20: -0.037770836 | C20: 0.0034273702 | D20: -0.03580816 | E20: -0.036647494 | F20: 0.003575 | G20: 0.0040916667 | H20: 0.0041833333 | I20: 0.005325 | J20: 0.00445 | K20: 0.00475 | L20: 0.0050916667 | M20: 0.00545 | N20: 0.00445 | O20: 0.0045166667 | P20: 0.0054916667 | Q20: 0.00875 | S20: =MIN($C$2:$C$277)+(MAX($C$2:$C$277)-MIN($C$2:$C$277))*0.3 -> -0.11255036 | T20: =FREQUENCY($C$2:$C$277,S20) -> 13 | U20: =T20-T19 -> 10
A21: 2002/08 | B21: 0.028372789 | C21: 0.034111093 | D21: 0.022815442 | E21: 0.0083589219 | F21: 0.0035916667 | G21: 0.004 | H21: 0.0040833333 | I21: 0.005075 | J21: 0.0042 | K21: 0.004475 | L21: 0.004825 | M21: 0.0052 | N21: 0.0042 | O21: 0.004275 | P21: 0.0051916667 | Q21: 0.008375 | S21: =MIN($C$2:$C$277)+(MAX($C$2:$C$277)-MIN($C$2:$C$277))*0.4 -> -0.044485263 | T21: =FREQUENCY($C$2:$C$277,S21) -> 48 | U21: =T21-T20 -> 35
A22: 2002/09 | B22: -0.09833797 | C22: -0.13135643 | D22: -0.13765249 | E22: -0.20977838 | F22: 0.0036083333 | G22: 0.0040083333 | H22: 0.0040916667 | I22: 0.0050583333 | J22: 0.0041916667 | K22: 0.004475 | L22: 0.0048083333 | M22: 0.0051333333 | N22: 0.0041916667 | O22: 0.0042666667 | P22: 0.00505 | Q22: 0.00825 | S22: =MIN($C$2:$C$277)+(MAX($C$2:$C$277)-MIN($C$2:$C$277))*0.5 -> 0.023579835 | T22: =FREQUENCY($C$2:$C$277,S22) -> 167 | U22: =T22-T21 -> 119
A23: 2002/10 | B23: 0.032981087 | C23: 0.014533901 | D23: 0.028910392 | E23: 0.028687647 | F23: 0.0036083333 | G23: 0.0040916667 | H23: 0.0041666667 | I23: 0.005 | J23: 0.0042833333 | K23: 0.0044916667 | L23: 0.0047583333 | M23: 0.0050916667 | N23: 0.0042833333 | O23: 0.0043416667 | P23: 0.0050083333 | Q23: 0.0081 | S23: =MIN($C$2:$C$277)+(MAX($C$2:$C$277)-MIN($C$2:$C$277))*0.6 -> 0.091644933 | T23: =FREQUENCY($C$2:$C$277,S23) -> 249 | U23: =T23-T22 -> 82
A24: 2002/11 | B24: 0.097424707 | C24: 0.064598881 | D24: 0.0079719019 | E24: 0.08012487 | F24: 0.0035916667 | G24: 0.0040916667 | H24: 0.0042083333 | I24: 0.0047416667 | J24: 0.0042 | K24: 0.0044083333 | L24: 0.0046 | M24: 0.0048333333 | N24: 0.0042 | O24: 0.0042833333 | P24: 0.0049166667 | Q24: 0.0078333333 | S24: =MIN($C$2:$C$277)+(MAX($C$2:$C$277)-MIN($C$2:$C$277))*0.7 -> 0.15971003 | T24: =FREQUENCY($C$2:$C$277,S24) -> 266 | U24: =T24-T23 -> 17
A25: 2002/12 | B25: -0.13305786 | C25: -0.14852136 | D25: -0.15987346 | E25: -0.14527938 | F25: 0.0036083333 | G25: 0.0040833333 | H25: 0.0041916667 | I25: 0.0047666667 | J25: 0.0041916667 | K25: 0.0044 | L25: 0.0046416667 | M25: 0.0048083333 | N25: 0.0041916667 | O25: 0.0042833333 | P25: 0.0049 | Q25: 0.0077583333 | S25: =MIN($C$2:$C$277)+(MAX($C$2:$C$277)-MIN($C$2:$C$277))*0.8 -> 0.22777513 | T25: =FREQUENCY($C$2:$C$277,S25) -> 275 | U25: =T25-T24 -> 9
A26: 2003/01 | B26: -0.23478218 | C26: 0.36390533 | D26: 2.1549334 | E26: -0.90218665 | F26: 0.0035833333 | G26: 0.0039166667 | H26: 0.0040333333 | I26: 0.0044333333 | J26: 0.0039916667 | K26: 0.0041333333 | L26: 0.0042916667 | M26: 0.004525 | N26: 0.0039916667 | O26: 0.0040666667 | P26: 0.0045666667 | Q26: 0.007375 | S26: =MIN($C$2:$C$277)+(MAX($C$2:$C$277)-MIN($C$2:$C$277))*0.9 -> 0.29584023 | T26: =FREQUENCY($C$2:$C$277,S26) -> 275 | U26: =T26-T25 -> 0
A27: 2003/02 | B27: 0.19147127 | C27: -0.30161275 | D27: -0.69869056 | E27: -0.037105324 | F27: 0.0036 | G27: 0.0037833333 | H27: 0.0038833333 | I27: 0.0041833333 | J27: 0.0038583333 | K27: 0.0039416667 | L27: 0.004075 | M27: 0.0042916667 | N27: 0.0038583333 | O27: 0.0039333333 | P27: 0.004375 | Q27: 0.00715 | S27: =MIN($C$2:$C$277)+(MAX($C$2:$C$277)-MIN($C$2:$C$277))*1 -> 0.36390533 | T27: =FREQUENCY($C$2:$C$277,S27) -> 276 | U27: =T27-T26 -> 1
A28: 2003/03 | B28: -0.067799029 | C28: -0.055850294 | D28: -0.08935645 | E28: -0.095978937 | F28: 0.0035416667 | G28: 0.0039666667 | H28: 0.0042 | I28: 0.0042166667 | J28: 0.0039333333 | K28: 0.0039833333 | L28: 0.0041166667 | M28: 0.0043333333 | N28: 0.003925 | O28: 0.0040333333 | P28: 0.0045333333 | Q28: 0.0071833333
A29: 2003/04 | B29: 0.12193768 | C29: 0.13532897 | D29: 0.11602837 | E29: 0.13317448 | F29: 0.00355 | G29: 0.00385 | H29: 0.004375 | I29: 0.004125 | J29: 0.0038333333 | K29: 0.0038333333 | L29: 0.003975 | M29: 0.0041916667 | N29: 0.0038333333 | O29: 0.0039416667 | P29: 0.0044916667 | Q29: 0.0070833333 | S29: 코스피소형주
A30: 2003/05 | B30: 0.052645047 | C30: 0.0977629 | D30: 0.070496526 | E30: 0.10233645 | F30: 0.0034083333 | G30: 0.0036583333 | H30: 0.0041916667 | I30: 0.0038416667 | J30: 0.0035833333 | K30: 0.0035583333 | L30: 0.003675 | M30: 0.0039 | N30: 0.0035833333 | O30: 0.00375 | P30: 0.0043833333 | Q30: 0.00695 | S30: 구간 | T30: 누적도수 | U30: 도수
A31: 2003/06 | B31: 0.062118143 | C31: 0.027297319 | D31: 0.03242573 | E31: 0.054472234 | F31: 0.0033583333 | G31: 0.0035666667 | H31: 0.0039083333 | I31: 0.0037166667 | J31: 0.0035666667 | K31: 0.0033916667 | L31: 0.0034916667 | M31: 0.0037166667 | N31: 0.003575 | O31: 0.003725 | P31: 0.0044 | Q31: 0.006975 | S31: =MIN($D$2:$D$277)+(MAX($D$2:$D$277)-MIN($D$2:$D$277))*0.1 -> -0.41332816 | T31: =FREQUENCY($D$2:$D$277,S31) -> 1 | U31: =T31 -> 1
A32: 2003/07 | B32: 0.076032226 | C32: -0.018720077 | D32: 0.011167616 | E32: -0.0084422111 | F32: 0.0032083333 | G32: 0.0034583333 | H32: 0.0037833333 | I32: 0.00405 | J32: 0.0035583333 | K32: 0.0036416667 | L32: 0.0038583333 | M32: 0.004125 | N32: 0.0035583333 | O32: 0.0036583333 | P32: 0.0047083333 | Q32: 0.0072833333 | S32: =MIN($D$2:$D$277)+(MAX($D$2:$D$277)-MIN($D$2:$D$277))*0.2 -> -0.12796576 | T32: =FREQUENCY($D$2:$D$277,S32) -> 12 | U32: =T32-T31 -> 11
A33: 2003/08 | B33: 0.064604869 | C33: 0.081269211 | D33: 0.03035281 | E33: 0.0042570444 | F33: 0.0031416667 | G33: 0.00325 | H33: 0.00355 | I33: 0.00425 | J33: 0.0034583333 | K33: 0.00385 | L33: 0.0041083333 | M33: 0.0043833333 | N33: 0.0034666667 | O33: 0.003525 | P33: 0.0048916667 | Q33: 0.00755 | S33: =MIN($D$2:$D$277)+(MAX($D$2:$D$277)-MIN($D$2:$D$277))*0.3 -> 0.15739663 | T33: =FREQUENCY($D$2:$D$277,S33) -> 268 | U33: =T33-T32 -> 256
A34: 2003/09 | B34: -0.081782703 | C34: -0.090954215 | D34: -0.064853197 | E34: -0.094469116 | F34: 0.0031333333 | G34: 0.0031916667 | H34: 0.0034333333 | I34: 0.0038833333 | J34: 0.0033916667 | K34: 0.0035416667 | L34: 0.0037166667 | M34: 0.003975 | N34: 0.0034 | O34: 0.003425 | P34: 0.0043666667 | Q34: 0.0073916667 | S34: =MIN($D$2:$D$277)+(MAX($D$2:$D$277)-MIN($D$2:$D$277))*0.4 -> 0.44275903 | T34: =FREQUENCY($D$2:$D$277,S34) -> 275 | U34: =T34-T33 -> 7
A35: 2003/10 | B35: 0.13191755 | C35: 0.051077982 | D35: 0.047580328 | E35: 0.033883192 | F35: 0.0031416667 | G35: 0.003275 | H35: 0.003425 | I35: 0.0039 | J35: 0.003425 | K35: 0.0035666667 | L35: 0.003775 | M35: 0.0040583333 | N35: 0.003425 | O35: 0.0034583333 | P35: 0.0043166667 | Q35: 0.0075416667 | S35: =MIN($D$2:$D$277)+(MAX($D$2:$D$277)-MIN($D$2:$D$277))*0.5 -> 0.72812143 | T35: =FREQUENCY($D$2:$D$277,S35) -> 275 | U35: =T35-T34 -> 0
A36: 2003/11 | B36: 0.018659251 | C36: 0.056828915 | D36: -0.0097148151 | E36: -0.01164295 | F36: 0.0031666667 | G36: 0.003525 | H36: 0.0036166667 | I36: 0.0043 | J36: 0.003725 | K36: 0.003975 | L36: 0.0042333333 | M36: 0.0044583333 | N36: 0.003725 | O36: 0.003775 | P36: 0.0046083333 | Q36: 0.0080333333 | S36: =MIN($D$2:$D$277)+(MAX($D$2:$D$277)-MIN($D$2:$D$277))*0.6 -> 1.0134838 | T36: =FREQUENCY($D$2:$D$277,S36) -> 275 | U36: =T36-T35 -> 0
A37: 2003/12 | B37: 0.012832287 | C37: 0.043718533 | D37: 0.0011883391 | E37: -0.021160558 | F37: 0.0031583333 | G37: 0.0036166667 | H37: 0.0037583333 | I37: 0.0043833333 | J37: 0.0038916667 | K37: 0.0040583333 | L37: 0.004275 | M37: 0.004525 | N37: 0.0039 | O37: 0.0039666667 | P37: 0.004675 | Q37: 0.0082416667 | S37: =MIN($D$2:$D$277)+(MAX($D$2:$D$277)-MIN($D$2:$D$277))*0.7 -> 1.2988462 | T37: =FREQUENCY($D$2:$D$277,S37) -> 275 | U37: =T37-T36 -> 0
A38: 2004/01 | B38: 0.057262101 | C38: -0.0099616093 | D38: -0.0090408606 | E38: 8.8384221 | F38: 0.0031666667 | G38: 0.00355 | H38: 0.003775 | I38: 0.0044 | J38: 0.0038333333 | K38: 0.0040666667 | L38: 0.0043 | M38: 0.0045166667 | N38: 0.0038333333 | O38: 0.0039333333 | P38: 0.004725 | Q38: 0.008325 | S38: =MIN($D$2:$D$277)+(MAX($D$2:$D$277)-MIN($D$2:$D$277))*0.8 -> 1.5842086 | T38: =FREQUENCY($D$2:$D$277,S38) -> 275 | U38: =T38-T37 -> 0
A39: 2004/02 | B39: 0.044397711 | C39: 0.033803751 | D39: -0.0036442406 | E39: -0.028927398 | F39: 0.00315 | G39: 0.0034 | H39: 0.0036333333 | I39: 0.0043416667 | J39: 0.0036833333 | K39: 0.004025 | L39: 0.004275 | M39: 0.004525 | N39: 0.0036916667 | O39: 0.0037583333 | P39: 0.0046916667 | Q39: 0.0083583333 | S39: =MIN($D$2:$D$277)+(MAX($D$2:$D$277)-MIN($D$2:$D$277))*0.9 -> 1.869571 | T39: =FREQUENCY($D$2:$D$277,S39) -> 275 | U39: =T39-T38 -> 0
A40: 2004/03 | B40: 0.0011924046 | C40: -0.00041831669 | D40: -0.002557741 | E40: 0.012783428 | F40: 0.0031416667 | G40: 0.003275 | H40: 0.003475 | I40: 0.0041166667 | J40: 0.0035416667 | K40: 0.0038166667 | L40: 0.0040666667 | M40: 0.0043833333 | N40: 0.00355 | O40: 0.0035833333 | P40: 0.004475 | Q40: 0.0082083333 | S40: =MIN($D$2:$D$277)+(MAX($D$2:$D$277)-MIN($D$2:$D$277))*1 -> 2.1549334 | T40: =FREQUENCY($D$2:$D$277,S40) -> 276 | U40: =T40-T39 -> 1
A41: 2004/04 | B41: -0.032268938 | C41: 0.010922635 | D41: 0.032771752 | E41: 0.044476691 | F41: 0.0031416667 | G41: 0.0032583333 | H41: 0.00345 | I41: 0.004125 | J41: 0.0034416667 | K41: 0.0037833333 | L41: 0.0040666667 | M41: 0.004375 | N41: 0.00345 | O41: 0.0035083333 | P41: 0.0044083333 | Q41: 0.0081333333
A42: 2004/05 | B42: -0.071310809 | C42: -0.10277498 | D42: -0.072476723 | E42: -0.11588418 | F42: 0.0031416667 | G42: 0.00325 | H42: 0.0034083333 | I42: 0.0040416667 | J42: 0.0033916667 | K42: 0.0036583333 | L42: 0.0039583333 | M42: 0.0043 | N42: 0.0034 | O42: 0.0034333333 | P42: 0.004225 | Q42: 0.00795 | S42: 코스닥
A43: 2004/06 | B43: -0.019927989 | C43: -0.0010765753 | D43: -0.0038012635 | E43: -0.039259703 | F43: 0.00315 | G43: 0.0032583333 | H43: 0.00335 | I43: 0.003925 | J43: 0.0034333333 | K43: 0.0035666667 | L43: 0.0038166667 | M43: 0.004175 | N43: 0.0034416667 | O43: 0.0034666667 | P43: 0.0040916667 | Q43: 0.0078083333 | S43: 구간 | T43: 누적도수 | U43: 도수
A44: 2004/07 | B44: -0.065489706 | C44: -0.043802251 | D44: -0.0300962 | E44: -0.14011631 | F44: 0.00315 | G44: 0.0032583333 | H44: 0.00335 | I44: 0.003825 | J44: 0.0033833333 | K44: 0.0034916667 | L44: 0.003725 | M44: 0.0040666667 | N44: 0.0033833333 | O44: 0.0034333333 | P44: 0.003975 | Q44: 0.0076833333 | S44: =MIN($E$2:$E$277)+(MAX($E$2:$E$277)-MIN($E$2:$E$277))*0.1 -> 0.071874222 | T44: =FREQUENCY($E$2:$E$277,S44) -> 236 | U44: =T44 -> 236
A45: 2004/08 | B45: 0.080603331 | C45: 0.08897691 | D45: 0.071480024 | E45: 0.073820235 | F45: 0.0030166667 | G45: 0.0030833333 | H45: 0.0032 | I45: 0.0034166667 | J45: 0.0031083333 | K45: 0.0031833333 | L45: 0.0033416667 | M45: 0.0036083333 | N45: 0.0031083333 | O45: 0.0031416667 | P45: 0.00365 | Q45: 0.0073333333 | S45: =MIN($E$2:$E$277)+(MAX($E$2:$E$277)-MIN($E$2:$E$277))*0.2 -> 1.0459351 | T45: =FREQUENCY($E$2:$E$277,S45) -> 275 | U45: =T45-T44 -> 39
A46: 2004/09 | B46: 0.04231668 | C46: 0.090371422 | D46: 0.030330455 | E46: 0.018050948 | F46: 0.0029416667 | G46: 0.0029333333 | H46: 0.003075 | I46: 0.0032166667 | J46: 0.0029166667 | K46: 0.0029916667 | L46: 0.003125 | M46: 0.00345 | N46: 0.002925 | O46: 0.00295 | P46: 0.0034166667 | Q46: 0.0071 | S46: =MIN($E$2:$E$277)+(MAX($E$2:$E$277)-MIN($E$2:$E$277))*0.3 -> 2.019996 | T46: =FREQUENCY($E$2:$E$277,S46) -> 275 | U46: =T46-T45 -> 0
A47: 2004/10 | B47: 0.0023389687 | C47: 0.033304404 | D47: 0.017391523 | E47: -0.013919576 | F47: 0.0029416667 | G47: 0.0029333333 | H47: 0.0030583333 | I47: 0.00315 | J47: 0.0029 | K47: 0.00295 | L47: 0.0030583333 | M47: 0.003375 | N47: 0.0028916667 | O47: 0.002925 | P47: 0.0033416667 | Q47: 0.007 | S47: =MIN($E$2:$E$277)+(MAX($E$2:$E$277)-MIN($E$2:$E$277))*0.4 -> 2.9940569 | T47: =FREQUENCY($E$2:$E$277,S47) -> 275 | U47: =T47-T46 -> 0
A48: 2004/11 | B48: 0.046803211 | C48: 0.084317585 | D48: 0.065392205 | E48: 0.045905221 | F48: 0.0028 | G48: 0.00285 | H48: 0.002975 | I48: 0.0030333333 | J48: 0.0027833333 | K48: 0.00285 | L48: 0.0029416667 | M48: 0.0033 | N48: 0.0027833333 | O48: 0.0028333333 | P48: 0.0032166667 | Q48: 0.0068833333 | S48: =MIN($E$2:$E$277)+(MAX($E$2:$E$277)-MIN($E$2:$E$277))*0.5 -> 3.9681177 | T48: =FREQUENCY($E$2:$E$277,S48) -> 275 | U48: =T48-T47 -> 0
A49: 2004/12 | B49: 0.019692997 | C49: 0.0030983359 | D49: 0.0086129055 | E49: 0.018477359 | F49: 0.0027333333 | G49: 0.002825 | H49: 0.0029416667 | I49: 0.0029416667 | J49: 0.0027333333 | K49: 0.0027333333 | L49: 0.002825 | M49: 0.0032083333 | N49: 0.0027416667 | O49: 0.0028083333 | P49: 0.0031083333 | Q49: 0.0067833333 | S49: =MIN($E$2:$E$277)+(MAX($E$2:$E$277)-MIN($E$2:$E$277))*0.6 -> 4.9421786 | T49: =FREQUENCY($E$2:$E$277,S49) -> 275 | U49: =T49-T48 -> 0
A50: 2005/01 | B50: 0.050496126 | C50: 0.10955466 | D50: 0.15701398 | E50: 0.24352536 | F50: 0.002725 | G50: 0.0028916667 | H50: 0.0030333333 | I50: 0.0033333333 | J50: 0.0029 | K50: 0.0030416667 | L50: 0.0032416667 | M50: 0.0036833333 | N50: 0.0029 | O50: 0.0029833333 | P50: 0.003425 | Q50: 0.0071166667 | S50: =MIN($E$2:$E$277)+(MAX($E$2:$E$277)-MIN($E$2:$E$277))*0.7 -> 5.9162395 | T50: =FREQUENCY($E$2:$E$277,S50) -> 275 | U50: =T50-T49 -> 0
A51: 2005/02 | B51: 0.075467426 | C51: 0.16861496 | D51: 0.21504672 | E51: 0.053768897 | F51: 0.002725 | G51: 0.0029916667 | H51: 0.0031333333 | I51: 0.0038416667 | J51: 0.0029 | K51: 0.0034916667 | L51: 0.003725 | M51: 0.0040666667 | N51: 0.0032166667 | O51: 0.0032916667 | P51: 0.0038583333 | Q51: 0.0075416667 | S51: =MIN($E$2:$E$277)+(MAX($E$2:$E$277)-MIN($E$2:$E$277))*0.8 -> 6.8903004 | T51: =FREQUENCY($E$2:$E$277,S51) -> 275 | U51: =T51-T50 -> 0
A52: 2005/03 | B52: -0.044134308 | C52: -0.047884467 | D52: -0.062293851 | E52: -0.086981821 | F52: 0.0027083333 | G52: 0.0029583333 | H52: 0.0031083333 | I52: 0.0037 | J52: 0.0031833333 | K52: 0.0033666667 | L52: 0.003575 | M52: 0.003975 | N52: 0.0031833333 | O52: 0.0032416667 | P52: 0.0037333333 | Q52: 0.0072833333 | S52: =MIN($E$2:$E$277)+(MAX($E$2:$E$277)-MIN($E$2:$E$277))*0.9 -> 7.8643612 | T52: =FREQUENCY($E$2:$E$277,S52) -> 275 | U52: =T52-T51 -> 0
A53: 2005/04 | B53: -0.053891902 | C53: -0.057456436 | D53: -0.037682623 | E53: -0.067314243 | F53: 0.0027166667 | G53: 0.0029333333 | H53: 0.0030833333 | I53: 0.0035333333 | J53: 0.0030916667 | K53: 0.0032166667 | L53: 0.003425 | M53: 0.0039083333 | N53: 0.0031 | O53: 0.0031583333 | P53: 0.0035666667 | Q53: 0.0069666667 | S53: =MIN($E$2:$E$277)+(MAX($E$2:$E$277)-MIN($E$2:$E$277))*1 -> 8.8384221 | T53: =FREQUENCY($E$2:$E$277,S53) -> 276 | U53: =T53-T52 -> 1
A54: 2005/05 | B54: 0.064566912 | C54: 0.060056822 | D54: 0.045165843 | E54: 0.11093308 | F54: 0.00275 | G54: 0.002925 | H54: 0.0030333333 | I54: 0.003325 | J54: 0.003 | K54: 0.0030916667 | L54: 0.0032416667 | M54: 0.0036833333 | N54: 0.003 | O54: 0.0030666667 | P54: 0.0034333333 | Q54: 0.0067583333
A55: 2005/06 | B55: 0.027513668 | C55: 0.13793845 | D55: 0.12984989 | E55: 0.067298719 | F55: 0.0027333333 | G55: 0.002925 | H55: 0.0030333333 | I55: 0.0034 | J55: 0.00305 | K55: 0.0031583333 | L55: 0.0033083333 | M55: 0.0037166667 | N55: 0.00305 | O55: 0.0031083333 | P55: 0.0034833333 | Q55: 0.0067916667
A56: 2005/07 | B56: 0.10654018 | C56: 0.057600399 | D56: 0.13095512 | E56: 0.086385406 | F56: 0.0027083333 | G56: 0.002925 | H56: 0.0030333333 | I56: 0.00375 | J56: 0.0031416667 | K56: 0.0034333333 | L56: 0.0036583333 | M56: 0.004075 | N56: 0.0031333333 | O56: 0.0031833333 | P56: 0.0037666667 | Q56: 0.007075 | S56: ◆ 기초통계량
A57: 2005/08 | B57: -0.023328662 | C57: -0.025829628 | D57: -0.060659847 | E57: -0.078162728 | F57: 0.0027083333 | G57: 0.0029166667 | H57: 0.0030166667 | I57: 0.0040083333 | J57: 0.0032333333 | K57: 0.0036083333 | L57: 0.0038916667 | M57: 0.0042333333 | N57: 0.003225 | O57: 0.003275 | P57: 0.0039583333 | Q57: 0.0072833333 | S57: 구분 | T57: 코스피대형주 | U57: 코스피중형주 | V57: 코스피소형주 | W57: 코스닥
A58: 2005/09 | B58: 0.11949509 | C58: 0.18248943 | D58: 0.18304293 | E58: 0.13493402 | F58: 0.0027083333 | G58: 0.0030833333 | H58: 0.0031833333 | I58: 0.00415 | J58: 0.0034916667 | K58: 0.0037666667 | L58: 0.0040083333 | M58: 0.0042916667 | N58: 0.0034916667 | O58: 0.0035416667 | P58: 0.0041 | Q58: 0.0073833333 | S58: 평균 | T58: 0.0081851513 | U58: 0.0095897316 | V58: 0.013111671 | W58: 0.033934064
A59: 2005/10 | B59: -0.059066463 | C59: -0.016121977 | D59: 0.042844254 | E59: 0.027117755 | F59: 0.0028666667 | G59: 0.003275 | H59: 0.0034333333 | I59: 0.00435 | J59: 0.0037 | K59: 0.0040083333 | L59: 0.0042166667 | M59: 0.0044666667 | N59: 0.0036916667 | O59: 0.0037833333 | P59: 0.0043333333 | Q59: 0.0075083333 | S59: 표준 오차 | T59: 0.0037551866 | U59: 0.0045152109 | V59: 0.0091730286 | W59: 0.032561053
A60: 2005/11 | B60: 0.11634305 | C60: 0.13795922 | D60: 0.18397793 | E60: 0.21266129 | F60: 0.0029166667 | G60: 0.0033 | H60: 0.0034333333 | I60: 0.00465 | J60: 0.0038083333 | K60: 0.00425 | L60: 0.0044916667 | M60: 0.0047333333 | N60: 0.0038166667 | O60: 0.0039166667 | P60: 0.0045833333 | Q60: 0.0077166667 | S60: 중앙값 | T60: 0.0099865609 | U60: 0.0073926263 | V60: 0.0094181455 | W60: 0.0060333016
A61: 2005/12 | B61: 0.074598655 | C61: -0.0054699562 | D61: -0.021299917 | E61: -0.01487949 | F61: 0.003075 | G61: 0.0033666667 | H61: 0.00355 | I61: 0.0045833333 | J61: 0.0038916667 | K61: 0.0042166667 | L61: 0.0044416667 | M61: 0.0046666667 | N61: 0.0038833333 | O61: 0.0040083333 | P61: 0.004575 | Q61: 0.007675 | S61: 최빈값 | T61: #N/A | U61: #N/A | V61: #N/A | W61: #N/A
A62: 2006/01 | B62: 0.019718728 | C62: -0.022836577 | D62: -0.021026929 | E62: -0.016457915 | F62: 0.003125 | G62: 0.0034583333 | H62: 0.0036583333 | I62: 0.00455 | J62: 0.00385 | K62: 0.0041833333 | L62: 0.0044083333 | M62: 0.00465 | N62: 0.0038416667 | O62: 0.00395 | P62: 0.0045833333 | Q62: 0.0076583333 | S62: 표준 편차 | T62: 0.062385846 | U62: 0.075012318 | V62: 0.1523938 | W62: 0.54094484
A63: 2006/02 | B63: -0.022183083 | C63: -0.0011153405 | D63: 0.00074206149 | E63: -0.011416319 | F63: 0.0032666667 | G63: 0.0035416667 | H63: 0.0037166667 | I63: 0.0043083333 | J63: 0.0038083333 | K63: 0.0040583333 | L63: 0.0041916667 | M63: 0.0044 | N63: 0.0038 | O63: 0.0038833333 | P63: 0.0044416667 | Q63: 0.007325 | S63: 분산 | T63: 0.0038919938 | U63: 0.0056268478 | V63: 0.023223869 | W63: 0.29262132
A64: 2006/03 | B64: -0.0071527457 | C64: 0.0041612298 | D64: -0.010504743 | E64: -0.025133361 | F64: 0.0033166667 | G64: 0.0035583333 | H64: 0.0037083333 | I64: 0.00435 | J64: 0.0038083333 | K64: 0.0041083333 | L64: 0.004275 | M64: 0.0045166667 | N64: 0.0038083333 | O64: 0.0038833333 | P64: 0.0044166667 | Q64: 0.0070666667 | S64: 첨도 | T64: 1.6556224 | U64: 3.7688845 | V64: 143.95647 | W64: 257.83098
A65: 2006/04 | B65: 0.044852429 | C65: 0.05829379 | D65: 0.049053383 | E65: 0.030411449 | F65: 0.0033083333 | G65: 0.0036083333 | H65: 0.0037333333 | I65: 0.004375 | J65: 0.0038416667 | K65: 0.004125 | L65: 0.0043 | M65: 0.0045416667 | N65: 0.0038416667 | O65: 0.0039166667 | P65: 0.0043666667 | Q65: 0.006925 | S65: 왜도 | T65: -0.12200679 | U65: 0.045562817 | V65: 9.7634883 | W65: 15.774853
A66: 2006/05 | B66: -0.069215647 | C66: -0.091014606 | D66: -0.090404 | E66: -0.080152894 | F66: 0.0033 | G66: 0.0036333333 | H66: 0.00375 | I66: 0.0042 | J66: 0.003825 | K66: 0.0039833333 | L66: 0.0041083333 | M66: 0.0043333333 | N66: 0.003825 | O66: 0.0039 | P66: 0.0042083333 | Q66: 0.0066916667 | S66: 범위 | T66: 0.46467496 | U66: 0.68065098 | V66: 2.853624 | W66: 9.7406088
A67: 2006/06 | B67: -0.012857572 | C67: -0.067473118 | D67: -0.044131763 | E67: -0.063156225 | F67: 0.0034666667 | G67: 0.003725 | H67: 0.0038583333 | I67: 0.004275 | J67: 0.0039166667 | K67: 0.004075 | L67: 0.0041916667 | M67: 0.004375 | N67: 0.0039166667 | O67: 0.0039916667 | P67: 0.0043083333 | Q67: 0.006725 | S67: 최소값 | T67: -0.23478218 | U67: -0.31674566 | V67: -0.69869056 | W67: -0.90218665
A68: 2006/07 | B68: 0.005466145 | C68: -0.013865667 | D68: -0.026097177 | E68: -0.055901673 | F68: 0.0035083333 | G68: 0.0038583333 | H68: 0.0040083333 | I68: 0.004225 | J68: 0.0040166667 | K68: 0.004075 | L68: 0.0041666667 | M68: 0.0043 | N68: 0.0040166667 | O68: 0.0040833333 | P68: 0.0043166667 | Q68: 0.0067083333 | S68: 최대값 | T68: 0.22989278 | U68: 0.36390533 | V68: 2.1549334 | W68: 8.8384221
A69: 2006/08 | B69: 0.040058713 | C69: 0.067109533 | D69: 0.044465535 | E69: 0.027202955 | F69: 0.0036833333 | G69: 0.0039 | H69: 0.00405 | I69: 0.0040916667 | J69: 0.0039666667 | K69: 0.003975 | L69: 0.004025 | M69: 0.0041166667 | N69: 0.0039666667 | O69: 0.004025 | P69: 0.00425 | Q69: 0.0066166667 | S69: 합 | T69: 2.2591017 | U69: 2.6467659 | V69: 3.6188212 | W69: 9.3658017
A70: 2006/09 | B70: 0.0094086724 | C70: 0.044774995 | D70: 0.050066187 | E70: 0.048164377 | F70: 0.0037333333 | G70: 0.0038666667 | H70: 0.0039833333 | I70: 0.0040416667 | J70: 0.0039 | K70: 0.0039083333 | L70: 0.0039666667 | M70: 0.004075 | N70: 0.0039 | O70: 0.0039333333 | P70: 0.0041833333 | Q70: 0.0065166667 | S70: 관측수 | T70: 276 | U70: 276 | V70: 276 | W70: 276
A71: 2006/10 | B71: -0.0074197915 | C71: 0.014433949 | D71: -0.016708509 | E71: -0.023849972 | F71: 0.0037333333 | G71: 0.0038083333 | H71: 0.0039583333 | I71: 0.0039916667 | J71: 0.0038666667 | K71: 0.00385 | L71: 0.0038916667 | M71: 0.0039916667 | N71: 0.0038583333 | O71: 0.0038833333 | P71: 0.0041083333 | Q71: 0.0064333333
A72: 2006/11 | B72: 0.043606904 | C72: 0.088460122 | D72: 0.093675645 | E72: 0.061542399 | F72: 0.003725 | G72: 0.0038333333 | H72: 0.0039583333 | I72: 0.0040916667 | J72: 0.0039166667 | K72: 0.0039333333 | L72: 0.0039916667 | M72: 0.0040916667 | N72: 0.0039166667 | O72: 0.0039416667 | P72: 0.0042083333 | Q72: 0.0065333333
A73: 2006/12 | B73: 0.0033922029 | C73: -0.010139567 | D73: -0.032017722 | E73: -0.02574859 | F73: 0.0037416667 | G73: 0.0039666667 | H73: 0.0040833333 | I73: 0.0041583333 | J73: 0.0040416667 | K73: 0.0040166667 | L73: 0.0040666667 | M73: 0.004125 | N73: 0.0040416667 | O73: 0.0040666667 | P73: 0.0043166667 | Q73: 0.0066416667 | S73: ◆ 상관계수
A74: 2007/01 | B74: -0.047970847 | C74: -0.089612033 | D74: -0.034431445 | E74: -0.049129753 | F74: 0.0038583333 | G74: 0.0041 | H74: 0.004225 | I74: 0.0042666667 | J74: 0.00415 | K74: 0.0041416667 | L74: 0.0041666667 | M74: 0.0042 | N74: 0.00415 | O74: 0.0042 | P74: 0.0044333333 | Q74: 0.0067583333 | S74: 구분 | T74: 코스피대형주 | U74: 코스피중형주 | V74: 코스피소형주 | W74: 코스닥
A75: 2007/02 | B75: 0.042418624 | C75: 0.040316471 | D75: 0.043163097 | E75: 0.042611517 | F75: 0.0038333333 | G75: 0.004125 | H75: 0.0042583333 | I75: 0.0041666667 | J75: 0.0041333333 | K75: 0.0040916667 | L75: 0.0041166667 | M75: 0.004175 | N75: 0.0041333333 | O75: 0.0041916667 | P75: 0.0044 | Q75: 0.0067333333 | S75: 코스피대형주 | T75: 1
A76: 2007/03 | B76: 0.020267363 | C76: 0.049398742 | D76: 0.072188372 | E76: 0.079976037 | F76: 0.0038333333 | G76: 0.0041166667 | H76: 0.0042583333 | I76: 0.00415 | J76: 0.004075 | K76: 0.0039916667 | L76: 0.0040166667 | M76: 0.0041166667 | N76: 0.004075 | O76: 0.00415 | P76: 0.0043333333 | Q76: 0.0066583333 | S76: 코스피중형주 | T76: 0.61368197 | U76: 1
A77: 2007/04 | B77: 0.053837286 | C77: 0.12042602 | D77: 0.084727884 | E77: 0.041433612 | F77: 0.0039 | G77: 0.004125 | H77: 0.0042666667 | I77: 0.0042583333 | J77: 0.0041416667 | K77: 0.0041166667 | L77: 0.0041333333 | M77: 0.004225 | N77: 0.0041416667 | O77: 0.0042083333 | P77: 0.00445 | Q77: 0.0067583333 | S77: 코스피소형주 | T77: 0.072984624 | U77: 0.68900324 | V77: 1
A78: 2007/05 | B78: 0.088806772 | C78: 0.19431055 | D78: 0.1652343 | E78: 0.10651299 | F78: 0.00385 | G78: 0.0042 | H78: 0.0043583333 | I78: 0.0043583333 | J78: 0.0042583333 | K78: 0.00425 | L78: 0.004275 | M78: 0.00435 | N78: 0.0042583333 | O78: 0.0043166667 | P78: 0.004575 | Q78: 0.006875 | S78: 코스닥 | T78: 0.18229317 | U78: 0.07159893 | V78: -0.036056678 | W78: 1
A79: 2007/06 | B79: 0.026066714 | C79: 0.024229333 | D79: 0.024231625 | E79: 0.041210371 | F79: 0.0037833333 | G79: 0.0041916667 | H79: 0.004375 | I79: 0.004525 | J79: 0.0042916667 | K79: 0.0043666667 | L79: 0.0044583333 | M79: 0.0045666667 | N79: 0.0042916667 | O79: 0.0043416667 | P79: 0.0047 | Q79: 0.0070166667
A80: 2007/07 | B80: 0.094937011 | C80: 0.20286269 | D80: 0.13662089 | E80: 0.042160552 | F80: 0.0038916667 | G80: 0.0042083333 | H80: 0.0043833333 | I80: 0.0046166667 | J80: 0.0044083333 | K80: 0.0044583333 | L80: 0.004525 | M80: 0.0046 | N80: 0.0044083333 | O80: 0.0044416667 | P80: 0.0047916667 | Q80: 0.0070916667
A81: 2007/08 | B81: -0.027536793 | C81: -0.031609963 | D81: -0.020808173 | E81: -0.044841778 | F81: 0.0040916667 | G81: 0.0043416667 | H81: 0.0045166667 | I81: 0.0045416667 | J81: 0.0044166667 | K81: 0.0044 | L81: 0.0044416667 | M81: 0.0045166667 | N81: 0.0044083333 | O81: 0.0045 | P81: 0.00475 | Q81: 0.0070166667
A82: 2007/09 | B82: 0.039615119 | C82: 0.015727466 | D82: 0.025438429 | E82: 0.025066763 | F82: 0.0041416667 | G82: 0.00445 | H82: 0.004675 | I82: 0.00465 | J82: 0.0044916667 | K82: 0.0044916667 | L82: 0.0045333333 | M82: 0.0046 | N82: 0.0045 | O82: 0.004625 | P82: 0.004875 | Q82: 0.0071166667
A83: 2007/10 | B83: 0.053655222 | C83: 0.061195252 | D83: -0.044404996 | E83: 0.019520238 | F83: 0.0041666667 | G83: 0.00445 | H83: 0.00475 | I83: 0.0047 | J83: 0.00445 | K83: 0.0045166667 | L83: 0.004575 | M83: 0.0046333333 | N83: 0.0045 | O83: 0.00465 | P83: 0.0049833333 | Q83: 0.0071666667
A84: 2007/11 | B84: -0.06744167 | C84: -0.11488735 | D84: -0.088501353 | E84: -0.084227289 | F84: 0.0041666667 | G84: 0.004525 | H84: 0.0048083333 | I84: 0.00485 | J84: 0.0044666667 | K84: 0.0046166667 | L84: 0.0046583333 | M84: 0.004675 | N84: 0.0045416667 | O84: 0.0047333333 | P84: 0.0051333333 | Q84: 0.0072666667
A85: 2007/12 | B85: 0.0035404739 | C85: -0.031301998 | D85: 0.0021266384 | E85: -0.050698264 | F85: 0.0041583333 | G85: 0.004775 | H85: 0.0052083333 | I85: 0.0052083333 | J85: 0.0046666667 | K85: 0.0049083333 | L85: 0.0049166667 | M85: 0.00485 | N85: 0.00475 | O85: 0.0050083333 | P85: 0.0056083333 | Q85: 0.0076333333
A86: 2008/01 | B86: -0.1372741 | C86: -0.15376813 | D86: -0.11008525 | E86: -0.13545291 | F86: 0.0041583333 | G86: 0.0048416667 | H86: 0.00545 | I86: 0.0048333333 | J86: 0.0045583333 | K86: 0.0045333333 | L86: 0.0045916667 | M86: 0.0046333333 | N86: 0.0045583333 | O86: 0.0048666667 | P86: 0.0055333333 | Q86: 0.0073166667
A87: 2008/02 | B87: 0.042332638 | C87: 0.10161759 | D87: 0.083586563 | E87: 0.077360226 | F87: 0.0041416667 | G87: 0.0044 | H87: 0.00485 | I87: 0.0044416667 | J87: 0.0041666667 | K87: 0.0042166667 | L87: 0.0042833333 | M87: 0.0044 | N87: 0.0041666667 | O87: 0.0043 | P87: 0.005225 | Q87: 0.0071166667
A88: 2008/03 | B88: 0.0079134328 | C88: -0.060116961 | D88: -0.048606229 | E88: -0.017516846 | F88: 0.0041416667 | G88: 0.004375 | H88: 0.0046916667 | I88: 0.0045166667 | J88: 0.0042083333 | K88: 0.0042916667 | L88: 0.0043333333 | M88: 0.0044666667 | N88: 0.0042083333 | O88: 0.0044 | P88: 0.0051083333 | Q88: 0.0071166667
A89: 2008/04 | B89: 0.074747292 | C89: 0.060181295 | D89: 0.022480664 | E89: 0.0039878967 | F89: 0.0041583333 | G89: 0.0044833333 | H89: 0.0048583333 | I89: 0.0044166667 | J89: 0.0042166667 | K89: 0.00415 | L89: 0.0041833333 | M89: 0.0043083333 | N89: 0.004225 | O89: 0.0044833333 | P89: 0.004925 | Q89: 0.00705
A90: 2008/05 | B90: 0.013470641 | C90: 0.015246842 | D90: 0.039377563 | E90: 0.0079286575 | F90: 0.0041583333 | G90: 0.0044666667 | H90: 0.004875 | I90: 0.0047 | J90: 0.004225 | K90: 0.0044 | L90: 0.0044666667 | M90: 0.0045833333 | N90: 0.0043083333 | O90: 0.0045583333 | P90: 0.0051833333 | Q90: 0.0074083333
... A277: 2023/12 | B277: 0.05155813 | C277: 0.017404035 | D277: 0.0071226577 | E277: 0.041951231 | F277: 0.0030291667 | G277: 0.0031916667 | H277: 0.0036166667 | I277: 0.00303 | J277: 0.00293 | K277: 0.0027916667 | L277: 0.0028091667 | M277: 0.0028458333 | N277: 0.0029158333 | O277: 0.0031491667 | P277: 0.0033966667 | Q277: 0.0087741667

Sheet 4-1 CAL
A1: 날짜 | B1: 코스닥 | C1: 국고채(3년)
A2: 2001/01 | B2: 0.60441232 | C2: 0.0049916667
A3: 2001/02 | B3: -0.09009009 | C3: 0.004525 | E3: 실제 | F3: 코스닥 | G3: 국고채(3년) | I3: 예시 | J3: 위험자산 | K3: 무위험자산
A4: 2001/03 | B4: -0.10852006 | C4: 0.0048666667 | E4: 평균 | F4: =AVERAGE(B2:B277) -> 0.033934064 | G4: =AVERAGE(C2:C277) -> 0.0028054801 | I4: 평균 | J4: 0.15 | K4: 0.05
A5: 2001/04 | B5: 0.15402601 | C5: 0.0054916667 | E5: 표준편차 | F5: =STDEV(B2:B277) -> 0.54094484 | G5: =STDEV(C2:C277) -> 0.0012392666 | I5: 표준편차 | J5: 0.5
A6: 2001/05 | B6: 0.030138027 | C6: 0.0053833333 | E6: 상관계수 | F6: =CORREL(B2:B277,C2:C277) -> 0.044666863 | I6: RVAR | J6: =(J4-K4)/J5 -> 0.2
A7: 2001/06 | B7: -0.055070682 | C7: 0.0050333333 | E7: RVAR | F7: =(F4-G4)/F5 -> 0.05754484
A8: 2001/07 | B8: -0.11421881 | C8: 0.0047916667
A9: 2001/08 | B9: -0.091790278 | C9: 0.0042916667 | E9: 주식투자비율 | F9: 포트폴리오 기대수익률 | G9: 포트폴리오 표준편차 | I9: 위험자산 투자비율 | J9: 포트폴리오 기대수익률 | K9: 포트폴리오 표준편차
A10: 2001/09 | B10: -0.16494179 | C10: 0.004075 | E10: 0 | F10: =E10*$F$4+(1-E10)*$G$4 -> 0.0028054801 | G10: =SQRT(E10^2*$F$5^2+(1-E10)^2*$G$5^2+2*E10*(1-E10)*$F$6*$F$5*$G$5) -> 0.0012392666 | I10: 0 | J10: =I10*$J$4+(1-I10)*$K$4 -> 0.05 | K10: =I10*$J$5 -> 0
A11: 2001/10 | B11: 0.21127033 | C11: 0.00395 | E11: 0.1 | F11: =E11*$F$4+(1-E11)*$G$4 -> 0.0059183385 | G11: =SQRT(E11^2*$F$5^2+(1-E11)^2*$G$5^2+2*E11*(1-E11)*$F$6*$F$5*$G$5) -> 0.054155766 | I11: 0.1 | J11: =I11*$J$4+(1-I11)*$K$4 -> 0.06 | K11: =I11*$J$5 -> 0.05
A12: 2001/11 | B12: 0.12741807 | C12: 0.00445 | E12: 0.2 | F12: =E12*$F$4+(1-E12)*$G$4 -> 0.0090311969 | G12: =SQRT(E12^2*$F$5^2+(1-E12)^2*$G$5^2+2*E12*(1-E12)*$F$6*$F$5*$G$5) -> 0.10823778 | I12: 0.2 | J12: =I12*$J$4+(1-I12)*$K$4 -> 0.07 | K12: =I12*$J$5 -> 0.1
A13: 2001/12 | B13: 0.023964833 | C13: 0.0049416667 | E13: 0.3 | F13: =E13*$F$4+(1-E13)*$G$4 -> 0.012144055 | G13: =SQRT(E13^2*$F$5^2+(1-E13)^2*$G$5^2+2*E13*(1-E13)*$F$6*$F$5*$G$5) -> 0.16232451 | I13: 0.3 | J13: =I13*$J$4+(1-I13)*$K$4 -> 0.08 | K13: =I13*$J$5 -> 0.15
A14: 2002/01 | B14: 0.071319762 | C14: 0.0050666667 | E14: 0.4 | F14: =E14*$F$4+(1-E14)*$G$4 -> 0.015256914 | G14: =SQRT(E14^2*$F$5^2+(1-E14)^2*$G$5^2+2*E14*(1-E14)*$F$6*$F$5*$G$5) -> 0.21641242 | I14: 0.4 | J14: =I14*$J$4+(1-I14)*$K$4 -> 0.09 | K14: =I14*$J$5 -> 0.2
A15: 2002/02 | B15: 0.017450879 | C15: 0.0049333333 | E15: 0.5 | F15: =E15*$F$4+(1-E15)*$G$4 -> 0.018369772 | G15: =SQRT(E15^2*$F$5^2+(1-E15)^2*$G$5^2+2*E15*(1-E15)*$F$6*$F$5*$G$5) -> 0.2705008 | I15: 0.5 | J15: =I15*$J$4+(1-I15)*$K$4 -> 0.1 | K15: =I15*$J$5 -> 0.25
A16: 2002/03 | B16: 0.17812222 | C16: 0.00525 | E16: 0.6 | F16: =E16*$F$4+(1-E16)*$G$4 -> 0.021482631 | G16: =SQRT(E16^2*$F$5^2+(1-E16)^2*$G$5^2+2*E16*(1-E16)*$F$6*$F$5*$G$5) -> 0.32458942 | I16: 0.6 | J16: =I16*$J$4+(1-I16)*$K$4 -> 0.11 | K16: =I16*$J$5 -> 0.3
A17: 2002/04 | B17: -0.20910169 | C17: 0.0053916667 | E17: 0.7 | F17: =E17*$F$4+(1-E17)*$G$4 -> 0.024595489 | G17: =SQRT(E17^2*$F$5^2+(1-E17)^2*$G$5^2+2*E17*(1-E17)*$F$6*$F$5*$G$5) -> 0.37867818 | I17: 0.7 | J17: =I17*$J$4+(1-I17)*$K$4 -> 0.12 | K17: =I17*$J$5 -> 0.35
A18: 2002/05 | B18: -0.048541042 | C18: 0.00525 | E18: 0.8 | F18: =E18*$F$4+(1-E18)*$G$4 -> 0.027708347 | G18: =SQRT(E18^2*$F$5^2+(1-E18)^2*$G$5^2+2*E18*(1-E18)*$F$6*$F$5*$G$5) -> 0.43276701 | I18: 0.8 | J18: =I18*$J$4+(1-I18)*$K$4 -> 0.13 | K18: =I18*$J$5 -> 0.4
A19: 2002/06 | B19: -0.12797363 | C19: 0.0049416667 | E19: 0.9 | F19: =E19*$F$4+(1-E19)*$G$4 -> 0.030821206 | G19: =SQRT(E19^2*$F$5^2+(1-E19)^2*$G$5^2+2*E19*(1-E19)*$F$6*$F$5*$G$5) -> 0.48685591 | I19: 0.9 | J19: =I19*$J$4+(1-I19)*$K$4 -> 0.14 | K19: =I19*$J$5 -> 0.45
A20: 2002/07 | B20: -0.036647494 | C20: 0.00475 | E20: 1 | F20: =E20*$F$4+(1-E20)*$G$4 -> 0.033934064 | G20: =SQRT(E20^2*$F$5^2+(1-E20)^2*$G$5^2+2*E20*(1-E20)*$F$6*$F$5*$G$5) -> 0.54094484 | I20: 1 | J20: =I20*$J$4+(1-I20)*$K$4 -> 0.15 | K20: =I20*$J$5 -> 0.5
A21: 2002/08 | B21: 0.0083589219 | C21: 0.004475 | E21: 1.1 | F21: =E21*$F$4+(1-E21)*$G$4 -> 0.037046923 | G21: =SQRT(E21^2*$F$5^2+(1-E21)^2*$G$5^2+2*E21*(1-E21)*$F$6*$F$5*$G$5) -> 0.5950338 | I21: 1.1 | J21: =I21*$J$4+(1-I21)*$K$4 -> 0.16 | K21: =I21*$J$5 -> 0.55
... A25: 2002/12 | B25: -0.14527938 | C25: 0.0044 | E25: 1.5 | F25: =E25*$F$4+(1-E25)*$G$4 -> 0.049498356 | G25: =SQRT(E25^2*$F$5^2+(1-E25)^2*$G$5^2+2*E25*(1-E25)*$F$6*$F$5*$G$5) -> 0.81138982 | I25: 1.5 | J25: =I25*$J$4+(1-I25)*$K$4 -> 0.2 | K25: =I25*$J$5 -> 0.75
A26: 2003/01 | B26: -0.90218665 | C26: 0.0041333333
A27: 2003/02 | B27: -0.037105324 | C27: 0.0039416667
A28: 2003/03 | B28: -0.095978937 | C28: 0.0039833333
A29: 2003/04 | B29: 0.13317448 | C29: 0.0038333333
A30: 2003/05 | B30: 0.10233645 | C30: 0.0035583333
A31: 2003/06 | B31: 0.054472234 | C31: 0.0033916667
A32: 2003/07 | B32: -0.0084422111 | C32: 0.0036416667
A33: 2003/08 | B33: 0.0042570444 | C33: 0.00385
A34: 2003/09 | B34: -0.094469116 | C34: 0.0035416667
A35: 2003/10 | B35: 0.033883192 | C35: 0.0035666667
A36: 2003/11 | B36: -0.01164295 | C36: 0.003975
A37: 2003/12 | B37: -0.021160558 | C37: 0.0040583333
... A277: 2023/12 | B277: 0.041951231 | C277: 0.0027916667

Sheet 4-2 포트폴리오 구성
B2: 구분 | C2: A | D2: B | E2: 무위험자산
B3: 기대수익률 | C3: 0.2 | D3: 0.15 | E3: 0.08
B4: 표준편차 | C4: 0.45 | D4: 0.32
B5: 공분산 | C5: 0.0475
B6: 상관계수 | C6: 0.33
A8: 1 | B8: 투자기회집합 구성 | C8: 투자비율A | D8: 투자비율B | E8: 포트폴리오 기대수익률 | F8: 포트폴리오 표준편차
C9: 0 | D9: =1-C9 -> 1 | E9: =C9*$C$3+D9*$D$3 -> 0.15 | F9: =SQRT(C9^2*$C$4^2+D9^2*$D$4^2+2*C9*D9*$C$5) -> 0.32
C10: 0.1 | D10: =1-C10 -> 0.9 | E10: =C10*$C$3+D10*$D$3 -> 0.155 | F10: =SQRT(C10^2*$C$4^2+D10^2*$D$4^2+2*C10*D10*$C$5) -> 0.30580876
C11: 0.2 | D11: =1-C11 -> 0.8 | E11: =C11*$C$3+D11*$D$3 -> 0.16 | F11: =SQRT(C11^2*$C$4^2+D11^2*$D$4^2+2*C11*D11*$C$5) -> 0.29805369
C12: 0.3 | D12: =1-C12 -> 0.7 | E12: =C12*$C$3+D12*$D$3 -> 0.165 | F12: =SQRT(C12^2*$C$4^2+D12^2*$D$4^2+2*C12*D12*$C$5) -> 0.29723896
C13: 0.4 | D13: =1-C13 -> 0.6 | E13: =C13*$C$3+D13*$D$3 -> 0.17 | F13: =SQRT(C13^2*$C$4^2+D13^2*$D$4^2+2*C13*D13*$C$5) -> 0.3034205
C14: 0.5 | D14: =1-C14 -> 0.5 | E14: =C14*$C$3+D14*$D$3 -> 0.175 | F14: =SQRT(C14^2*$C$4^2+D14^2*$D$4^2+2*C14*D14*$C$5) -> 0.31618824
C15: 0.6 | D15: =1-C15 -> 0.4 | E15: =C15*$C$3+D15*$D$3 -> 0.18 | F15: =SQRT(C15^2*$C$4^2+D15^2*$D$4^2+2*C15*D15*$C$5) -> 0.33478949
C16: 0.7 | D16: =1-C16 -> 0.3 | E16: =C16*$C$3+D16*$D$3 -> 0.185 | F16: =SQRT(C16^2*$C$4^2+D16^2*$D$4^2+2*C16*D16*$C$5) -> 0.3583169
C17: 0.8 | D17: =1-C17 -> 0.2 | E17: =C17*$C$3+D17*$D$3 -> 0.19 | F17: =SQRT(C17^2*$C$4^2+D17^2*$D$4^2+2*C17*D17*$C$5) -> 0.38587044
C18: 0.9 | D18: =1-C18 -> 0.1 | E18: =C18*$C$3+D18*$D$3 -> 0.195 | F18: =SQRT(C18^2*$C$4^2+D18^2*$D$4^2+2*C18*D18*$C$5) -> 0.41665213
C19: 1 | D19: =1-C19 -> 0 | E19: =C19*$C$3+D19*$D$3 -> 0.2 | F19: =SQRT(C19^2*$C$4^2+D19^2*$D$4^2+2*C19*D19*$C$5) -> 0.45
A22: 2 | B22: 최소분산포트폴리오(V) | C22: A 투자비율 | D22: B투자비율
C23: =(D4^2-C5)/(C4^2+D4^2-2*C5) -> 0.26155312 | D23: =1-C23 -> 0.73844688
B25: 기대수익률 | C25: =C23*C3+D23*D3 -> 0.16307766
B26: 표준편차 | C26: =SQRT(C23^2*C4^2+D23^2*D4^2+2*C23*D23*C5) -> 0.29671659
B27: 위험보상비율 | C27: =(C25-E3)/C26 -> 0.27998993
A30: 3 | B30: 포트폴리오 P | C30: A 투자비율 | D30: B투자비율
C31: 0.35 | D31: =1-C31 -> 0.65
B33: 기대수익률 | C33: =C31*C3+D31*D3 -> 0.1675
B34: 표준편차 | C34: =SQRT(C31^2*C4^2+D31^2*D4^2+2*C31*D31*C5) -> 0.29947078
B35: 위험보상비율 | C35: =(C33-E3)/C34 -> 0.29218209
A38: 4 | B38: 포트폴리오 T | C38: A 투자비율 | D38: B투자비율
C39: =((C3-E3)*D4^2-(D3-E3)*C5)/((C3-E3)*D4^2+(D3-E3)*C4^2-(C3-E3+D3-E3)*C5) -> 0.51399243 | D39: =1-C39 -> 0.48600757
B41: 기대수익률 | C41: =C39*C3+D39*D3 -> 0.17569962
B42: 표준편차 | C42: =SQRT(C39^2*C4^2+D39^2*D4^2+2*C39*D39*C5) -> 0.31845995
B43: 위험보상비율 | C43: =(C41-E3)/C42 -> 0.30050756
A46: 5 | B46: 최적 완전포트폴리오 | C46: A 투자비율 | D46: B투자비율 | E46: 무위험자산투자비율
B48: 위험회피도
B49: 4
B51: 위험자산 투자비율
B52: =(C41-E3)/(B49*C42^2) -> 0.23590687 | C52: =B52*C39 -> 0.12125435 | D52: =B52*D39 -> 0.11465253 | E52: =1-B52 -> 0.76409313
B55: 기대수익률 | C55: =C52*C3+D52*D3+E52*E3 -> 0.1025762
B56: 표준편차 | C56: =B52*C42 -> 0.07512689

Sheet 4-3 EGP 알고리즘
B2: 자산 | C2: 기대수익률
B3: A | C3: 0.15
B4: B | C4: 0.3
B5: C | C5: 0.2
B7: 무위험수익률 | C7: 0.1
A9: 1 | B9: 공분산 행렬
C10: A | D10: B | E10: C
B11: A | C11: 0.0225 | D11: 0.012 | E11: -0.008
B12: B | C12: 0.012 | D12: 0.16 | E12: -0.03
B13: C | C13: -0.008 | D13: -0.03 | E13: 0.08
A16: 2 | B16: 공분산행렬의 역행렬 | E16: =MINVERSE(B11:D13)
B17: {=MINVERSE(C11:E13)} -> 47.269116 | C17: -2.8599801 | D17: 3.6544191
B18: -2.8599801 | C18: 6.8957299 | D18: 2.2999007
B19: 3.6544191 | C19: 2.2999007 | D19: 13.727905
A21: 3 | B21: 위험프리미엄 벡터
B22: =C3-$C$7 -> 0.05 | C22: =B2-$B$6
B23: =C4-$C$7 -> 0.2 | C23: =B3-$B$6
B24: =C5-$C$7 -> 0.1 | C24: =B4-$B$6
A26: 4 | B26: 행렬 Z | C26: =MMULT(A17:C19,A22:A24)
B27: {=MMULT(B17:D19,B22:B24)} -> 2.1569017
B28: 1.466137
B29: 2.0154916
A31: 5 | B31: 투자비율
B32: =B27/SUM($B$27:$B$29) -> 0.38252906 | C32: =A27/SUM($A$27:$A$29)
B33: =B28/SUM($B$27:$B$29) -> 0.26002113 | C33: =A28/SUM($A$27:$A$29)
B34: =B29/SUM($B$27:$B$29) -> 0.35744981 | C34: =A29/SUM($A$27:$A$29)

Sheet 4-4 solver
B2: 위험회피도 | C2: 2
B4: 기대수익률과 가중치
C6: 기대수익률 | D6: 자산배분 | F6: 제약조건
B7: A | C7: 0.3 | D7: 0.3 | E7: <= | F7: 0.3
B8: B | C8: 0.15 | D8: 0 | E8: <= | F8: 1
B9: C | C9: 0.25 | D9: 0.7 | E9: <= | F9: 1
B10: 투자비율 합 | D10: =SUM(D7:D9) -> 1 | E10: = | F10: 1
B12: 공분산행렬C | F12: w' | G12: =TRANSPOSE(C6:C8)
B13: 0.09 | C13: 0.0045 | D13: -0.012 | F13: {=TRANSPOSE(D7:D9)} -> 0.3 | G13: 0 | H13: 0.7
B14: 0.0045 | C14: 0.012 | D14: -0.0015 | F14: w'*C | G14: =MMULT(E12:G12,A12:C14)
B15: -0.012 | C15: -0.0015 | D15: 0.04 | F15: {=MMULT(F13:H13,B13:D15)} -> 0.0186 | G15: 0.0003 | H15: 0.0244
B18: 포트폴리오 기대수익률 | D18: =SUMPRODUCT(B6:B8,C6:C8)
B19: =SUMPRODUCT(C7:C9,D7:D9) -> 0.265
B21: 포트폴리오 분산(w'*C*w) | D21: =MMULT(E14:G14,C6:C8)
B22: =MMULT(F15:H15,D7:D9) -> 0.02266
B24: 목적함수 | C24: =A18-0.5*A21*B1
B25: =B19-0.5*B22*C2 -> 0.24234

Sheet 5-1 시장모형
A1: 날짜 | B1: 코스피지수 수익률 | C1: 삼성전자 주가수익률 | M1: 요약 출력
A2: 2023-01-02 | B2: -0.0047978895 | C2: 0.0036166365
A3: 2023-01-03 | B3: -0.0031406273 | C3: -0.0018018018 | M3: 회귀분석 통계량
A4: 2023-01-04 | B4: 0.016811798 | C4: 0.0433213 | M4: 다중 상관계수 | N4: 0.67330708
A5: 2023-01-05 | B5: 0.0038431192 | C5: 0.0069204152 | M5: 결정계수 | N5: 0.45334242
A6: 2023-01-06 | B6: 0.011180536 | C6: 0.013745704 | M6: 조정된 결정계수 | N6: 0.45107413
A7: 2023-01-09 | B7: 0.026297288 | C7: 0.028813559 | M7: 표준 오차 | N7: 0.0098477578
A8: 2023-01-10 | B8: 0.00047655721 | C8: -0.0049423394 | M8: 관측수 | N8: 243
A9: 2023-01-11 | B9: 0.0034959235 | C9: 0.0016556291
A10: 2023-01-12 | B10: 0.0023606396 | C10: 0 | M10: 분산 분석
A11: 2023-01-13 | B11: 0.008874889 | C11: 0.0049586777 | N11: 자유도 | O11: 제곱합 | P11: 제곱 평균 | Q11: F 비 | R11: 유의한 F
A12: 2023-01-16 | B12: 0.0057709474 | C12: 0.0049342105 | M12: 회귀 | N12: 1 | O12: 0.019382186 | P12: 0.019382186 | Q12: 199.86099 | R12: 1.8829594e-33
A13: 2023-01-17 | B13: -0.0085296642 | C13: -0.0016366612 | M13: 잔차 | N13: 241 | O13: 0.023371778 | P13: 9.6978334e-05
A14: 2023-01-18 | B14: -0.0046524529 | C14: -0.0098360656 | M14: 계 | N14: 242 | O14: 0.042753964
A15: 2023-01-19 | B15: 0.0050753277 | C15: 0.018211921
A16: 2023-01-20 | B16: 0.0062680121 | C16: 0.0048780488 | N16: 계수 | O16: 표준 오차 | P16: t 통계량 | Q16: P-값 | R16: 하위 95% | S16: 상위 95% | T16: 하위 95.0% | U16: 상위 95.0%
A17: 2023-01-25 | B17: 0.013906632 | C17: 0.025889968 | M17: Y 절편 | N17: 0.00086818426 | O17: 0.00063315073 | P17: 1.3712126 | Q17: 0.17158413 | R17: -0.00037903163 | S17: 0.0021154002 | T17: -0.00037903163 | U17: 0.0021154002
A18: 2023-01-26 | B18: 0.016503539 | C18: 0.0078864353 | M18: X 1 | N18: 0.92596043 | O18: 0.065498056 | P18: 14.13722 | Q18: 1.8829594e-33 | R18: 0.79693868 | S18: 1.0549822 | T18: 0.79693868 | U18: 1.0549822
A19: 2023-01-27 | B19: 0.006226075 | C19: 0.010954617
A20: 2023-01-30 | B20: -0.013506332 | C20: -0.020123839
A21: 2023-01-31 | B21: -0.010361278 | C21: -0.036334913
A22: 2023-02-01 | B22: 0.010193478 | C22: 0.013114754 | M22: 잔차 출력
A23: 2023-02-02 | B23: 0.0077883909 | C23: 0.027508091
A24: 2023-02-03 | B24: 0.0046660834 | C24: 0.0047244094 | M24: 관측수 | N24: Y 예측치 | O24: 잔차
A25: 2023-02-06 | B25: -0.017017417 | C25: -0.034482759 | M25: 1 | N25: -0.0035744715 | O25: 0.0071911081
A26: 2023-02-07 | B26: 0.005545097 | C26: 0.0048701299 | M26: 2 | N26: -0.0020399124 | O26: 0.00023811056
A27: 2023-02-08 | B27: 0.013023563 | C27: 0.019386107 | M27: 3 | N27: 0.016435244 | O27: 0.026886056
A28: 2023-02-09 | B28: -0.00085358587 | C28: -0.0015847861 | M28: 4 | N28: 0.0044267606 | O28: 0.0024936547
A29: 2023-02-10 | B29: -0.0047511203 | C29: -0.0031746032 | M29: 5 | N29: 0.011220918 | O29: 0.0025247866
A30: 2023-02-13 | B30: -0.0068954906 | C30: 0.0015923567 | M30: 6 | N30: 0.025218432 | O30: 0.0035951272
A31: 2023-02-14 | B31: 0.0052758185 | C31: 0.0047694754 | M31: 7 | N31: 0.0013094574 | O31: -0.0062517968
A32: 2023-02-15 | B32: -0.015306371 | C32: -0.015822785 | M32: 8 | N32: 0.0041052711 | O32: -0.002449642
A33: 2023-02-16 | B33: 0.019597183 | C33: 0.024115756 | M33: 9 | N33: 0.0030540431 | O33: -0.0030540431
A34: 2023-02-17 | B34: -0.0098041592 | C34: -0.017268446 | M34: 10 | N34: 0.0090859803 | O34: -0.0041273026
A35: 2023-02-20 | B35: 0.0015951306 | C35: 0.0015974441 | M35: 11 | N35: 0.0062118532 | O35: -0.0012776427
A36: 2023-02-21 | B36: 0.0015640783 | C36: -0.009569378 | M36: 12 | N36: -0.0070299473 | O36: 0.0053932861
... A244: 2023-12-28 | B244: 0.015986225 | C244: 0.0064102564 | M244: 220 | N244: -0.005880573 | O244: -0.0037879352
M245: 221 | N245: 0.00050842666 | O245: -0.0060872272
M246: 222 | N246: 0.010552022 | O246: 0.0090833213
M247: 223 | N247: 0.00015216734 | O247: -0.00015216734
M248: 224 | N248: 0.0065566558 | O248: -0.00518114
M249: 225 | N249: -0.010190938 | O249: -0.00079807309
M250: 226 | N250: 0.0045424397 | O250: 0.0037908936
M251: 227 | N251: -0.0067421468 | O251: -0.0125416
M252: 228 | N252: 0.0012765412 | O252: 0.0057459307
M253: 229 | N253: -0.00036005714 | O253: -0.0024293431
M254: 230 | N254: 0.010447072 | O254: 0.0049375429
M255: 231 | N255: 0.0036300497 | O255: 0.0018795922
M256: 232 | N256: 0.0045018317 | O256: 0.0023474834
... M267: 243 | N267: 0.015670796 | O267: -0.00926054

Sheet 5-2 베타 사례
A1: 시간 | B1: 시장 | C1: A | D1: B
A2: 1 | B2: 0.0732 | C2: -0.2826 | D2: 0.0916
A3: 2 | B3: -0.0247 | C3: -0.0303 | D3: 0.0073
A4: 3 | B4: 0.0226 | C4: 0.0875 | D4: -0.0029
A5: 4 | B5: 0.0518 | C5: -0.0147 | D5: 0.0221
A6: 5 | B6: 0.0404 | C6: -0.0149 | D6: -0.0108
A7: 6 | B7: -0.0059 | C7: -0.0909 | D7: -0.0065
A8: 7 | B8: 0.0901 | C8: 0.1067 | D8: 0.0222
A9: 8 | B9: 0.0186 | C9: -0.0938 | D9: 0
A10: 9 | B10: -0.004 | C10: 0.1034 | D10: 0.0188
A11: 10 | B11: -0.0234 | C11: -0.1438 | D11: -0.0755
A12: 11 | B12: 0.0204 | C12: -0.1481 | D12: -0.1284
A13: 12 | B13: 0.0238 | C13: -0.0435 | D13: -0.017
... A25: 24 | B25: 0.0272 | C25: -0.0256 | D25: -0.0853
A27: 평균수익률 | B27: =AVERAGE(B2:B25) -> 0.011025 | C27: =AVERAGE(C2:C25) -> -0.022654167 | D27: =AVERAGE(D2:D25) -> -0.0067125
A28: 표준편차 | B28: =STDEV(B2:B25) -> 0.046063437 | C28: =STDEV(C2:C25) -> 0.09230736 | D28: =STDEV(D2:D25) -> 0.081667711

Sheet 8-1 채권가격
A1: 발행금리 10%에서의 채권가격 (년 1회 이자지급)
A3: 발행금리 | B3: 0.1
A4: 시중금리 | B4: 0.06
A5: 잔여만기 | C5: 수식
A6: 1 | B6: =(10000*$B$3)/(1+$B$4)+10000/(1+$B$4) -> 10377.358 | C6: =(10000*$B$3)/(1+$B$4)+10000/(1+$B$4)
A7: 2 | B7: =(10000*$B$3)*(1/(1+$B$4)^2+1/(1+$B$4))+10000/(1+$B$4)^2 -> 10733.357 | C7: =(10000*$B$3)*(1/(1+$B$4)^2+1/(1+$B$4))+10000/(1+$B$4)^2
A8: 3 | B8: =(10000*$B$3)*(1/(1+$B$4)^3+1/(1+$B$4)^2+1/(1+$B$4))+10000/(1+$B$4)^3 -> 11069.205 | C8: =(10000*$B$3)*(1/(1+$B$4)^3+1/(1+$B$4)^2+1/(1+$B$4))+10000/(1+$B$4)^3
A9: 4 | B9: =(10000*$B$3)*(1/(1+$B$4)^4+1/(1+$B$4)^3+1/(1+$B$4)^2+1/(1+$B$4))+10000/(1+$B$4)^4 -> 11386.042 | C9: =(10000*$B$3)*(1/(1+$B$4)^4+1/(1+$B$4)^3+1/(1+$B$4)^2+1/(1+$B$4))+10000/(1+$B$4)^4
A10: 5 | B10: =(10000*$B$3)*(1/(1+$B$4)^5+1/(1+$B$4)^4+1/(1+$B$4)^3+1/(1+$B$4)^2+1/(1+$B$4))+10000/(1+$B$4)^5 -> 11684.946 | C10: =(10000*$B$3)*(1/(1+$B$4)^5+1/(1+$B$4)^4+1/(1+$B$4)^3+1/(1+$B$4)^2+1/(1+$B$4))+10000/(1+$B$4)^5
A12: (PV함수 사용)
A13: 발행금리 | B13: 0.1
A14: 시중금리 | B14: 0.06
A15: 잔여만기 | C15: 함수
A16: 1 | B16: =PV($B$14,$A16,-10000*$B$13,-10000) -> 10377.358 | C16: =PV($B$14,$A16,-10000*$B$13,-10000)
A17: 2 | B17: =PV($B$14,$A17,-10000*$B$13,-10000) -> 10733.357 | C17: =PV($B$14,$A17,-10000*$B$13,-10000)
A18: 3 | B18: =PV($B$14,$A18,-10000*$B$13,-10000) -> 11069.205 | C18: =PV($B$14,$A18,-10000*$B$13,-10000)
A19: 4 | B19: =PV($B$14,$A19,-10000*$B$13,-10000) -> 11386.042 | C19: =PV($B$14,$A19,-10000*$B$13,-10000)
A20: 5 | B20: =PV($B$14,$A20,-10000*$B$13,-10000) -> 11684.946 | C20: =PV($B$14,$A20,-10000*$B$13,-10000)
A23: PRICE함수를 이용한 채권가격 계산
B24: 4.875% Coupon
B25: 만기
B26: 2024년 2월
A28: 구입일(settlement) | B28: 42799
A29: 만기일(maturity) | B29: 45327
A30: 발행금리(rate) | B30: 0.04875
A31: 만기수익률(yld) | B31: 0.0413
A32: 만기상환액(redemption) | B32: 100
A33: 연간이자지급횟수(frequency) | B33: 2
C35: 함수와 수식
A36: 신문고시가격 | B36: =PRICE(B28,B29,B30,B31,B32,B33) -> 104.43933 | C36: =PRICE(B28,B29,B30,B31,B32,B33)
A37: 이자지급후 경과기간 | B37: =COUPDAYBS(B28,B29,B33,1) -> 28 | C37: =COUPDAYBS(B28,B29,B33,1)
A38: 이자지급간격 | B38: =COUPDAYS(B28,B29,B33,1) -> 181 | C38: =COUPDAYS(B28,B29,B33,1)
A39: 미지급이자 | B39: =(B37/B38)*B30*B32/B33 -> 0.37707182 | C39: =(B37/B38)*B30*B32/B33
A40: 실제지불가격 | B40: =B36+B39 -> 104.8164 | C40: =B36+B39

Sheet 8-2 듀레이션
A1: 일반식에 따른 듀레이션의 계산
A2: 액면가 | B2: 10000
A3: 발행금리 | B3: 0.15
A4: 만기수익률 | B4: 0.06
A5: 만기 | B5: 5년
B7: 기간(년) | C7: 현금흐름 | D7: 현재가치 | E7: 가중치 | F7: 기간*가중치
B8: 1 | C8: =$B$2*$B$3 -> 1500 | D8: =C8/(1+$B$4)^B8 -> 1415.0943 | E8: =D8/$D$13 -> 0.10260904 | F8: =B8*E8 -> 0.10260904
B9: 2 | C9: =$B$2*$B$3 -> 1500 | D9: =C9/(1+$B$4)^B9 -> 1334.9947 | E9: =D9/$D$13 -> 0.096800981 | F9: =B9*E9 -> 0.19360196
B10: 3 | C10: =$B$2*$B$3 -> 1500 | D10: =C10/(1+$B$4)^B10 -> 1259.4289 | E10: =D10/$D$13 -> 0.09132168 | F10: =B10*E10 -> 0.27396504
B11: 4 | C11: =$B$2*$B$3 -> 1500 | D11: =C11/(1+$B$4)^B11 -> 1188.1405 | E11: =D11/$D$13 -> 0.086152528 | F11: =B11*E11 -> 0.34461011
B12: 5 | C12: =$B$2*$B$3+$B$2 -> 11500 | D12: =C12/(1+$B$4)^B12 -> 8593.469 | E12: =D12/$D$13 -> 0.62311577 | F12: =B12*E12 -> 3.1155789
D13: =SUM(D8:D12) -> 13791.127 | E13: =SUM(E8:E12) -> 1 | F13: =SUM(F8:F12) -> 4.030365
A19: 함수를 이용한 듀레이션의 계산
A20: 구입일(settlement) | B20: 38416
A21: 만기일(maturity) | B21: 40242
A22: 발행금리(coupon) | B22: 0.15
A23: 만기수익률(yld) | B23: 0.06
A24: 연간이자지급횟수(frequency) | B24: 1
A25: 듀레이션 | B25: =DURATION(B20,B21,B22,B23,B24) -> 4.030365 | C25: =DURATION(B20,B21,B22,B23,B24)

Sheet 8-3 채권면역
A2: 시중금리 | B2: 0.1
A4: 부채 | E4: 채권1 | F4: 채권2
A5: Maturity | B5: 2 | D5: 발행금리 | E5: 0.08 | F5: 0.07
A6: 금액 | B6: 1000000 | D6: 액면가 | E6: 10000 | F6: 10000
A7: Duration | B7: 2 | D7: 만기 | E7: 3 | F7: 1
D8: 가격 | E8: =PV($B$2,E7,-E6*E5,-E6) -> 9502.6296 | F8: =PV($B$2,F7,-F6*F5,-F6) -> 9727.2727
D9: Duration | E9: 2.78 | F9: =ROUND(((1+$B$2)/$B$2)-((1+$B$2)+F7*(F5-$B$2))/(F5*((1+$B$2)^F7-1)+$B$2),2) -> 1
D10: 투자비중 | E10: 0.56179719 | F10: =1-E10 -> 0.43820281
C11: 포트폴리오 Duration | E11: =E10*E9+F10*F9 -> 1.999999
D12: Duration 차이 | E12: =E11-B7 -> -1e-06
D14: 총투자금액
C15: 투자금액 | D15: =B6/(1+$B$2)^2 -> 826446.28 | E15: =$D$15*E10 -> 464295.2 | F15: =$D$15*F10 -> 362151.08
C16: 매입주수 | E16: =ROUND(E15/E8,2) -> 48.86 | F16: =ROUND(F15/F8,2) -> 37.23
A19: 2년 뒤의 포트폴리오 가치
C20: 시중금리
C21: 0.08 | D21: 0.09 | E21: 0.1 | F21: 0.11 | G21: 0.12
A22: 1년 만기 채권 | C22: =(1+$F$5)*$F$6*$F$16*(1+C21) -> 430229.88 | D22: =(1+$F$5)*$F$6*$F$16*(1+D21) -> 434213.49 | E22: =(1+$F$5)*$F$6*$F$16*(1+E21) -> 438197.1 | F22: =(1+$F$5)*$F$6*$F$16*(1+F21) -> 442180.71 | G22: =(1+$F$5)*$F$6*$F$16*(1+G21) -> 446164.32
A23: 3년 만기 채권
A24: 1년째 수입이자의 재투자 | C24: =$E$6*$E$5*$E$16*(1+C21) -> 42215.04 | D24: =$E$6*$E$5*$E$16*(1+D21) -> 42605.92 | E24: =$E$6*$E$5*$E$16*(1+E21) -> 42996.8 | F24: =$E$6*$E$5*$E$16*(1+F21) -> 43387.68 | G24: =$E$6*$E$5*$E$16*(1+G21) -> 43778.56
A25: 2년째 수입이자 | C25: =$E$6*$E$5*$E$16 -> 39088 | D25: =$E$6*$E$5*$E$16 -> 39088 | E25: =$E$6*$E$5*$E$16 -> 39088 | F25: =$E$6*$E$5*$E$16 -> 39088 | G25: =$E$6*$E$5*$E$16 -> 39088
A26: 2년째 매각가격 | C26: =(1+$E$5)*$E$6*$E$16/(1+C21) -> 488600 | D26: =(1+$E$5)*$E$6*$E$16/(1+D21) -> 484117.43 | E26: =(1+$E$5)*$E$6*$E$16/(1+E21) -> 479716.36 | F26: =(1+$E$5)*$E$6*$E$16/(1+F21) -> 475394.59 | G26: =(1+$E$5)*$E$6*$E$16/(1+G21) -> 471150
A27: 2년째 포트폴리오의 가치 | C27: =SUM(C22:C26) -> 1000132.9 | D27: =SUM(D22:D26) -> 1000024.8 | E27: =SUM(E22:E26) -> 999998.26 | F27: =SUM(F22:F26) -> 1000051 | G27: =SUM(G22:G26) -> 1000180.9

Sheet 9-1 이항분포
A1: 현재주가 | B1: 30000
A2: 행사가격 | B2: 35000
A3: u= | B3: 1.2
A4: d= | B4: 0.67
A5: 무위험이자율 | B5: 0.1
A6: 가성확률 p= | B6: =((1+$B$5)-$B$4)/($B$3-$B$4) -> 0.81132075 | C6: =((1+$C$6)-$C$5)/($C$4-$C$5)
A7: 1-p = | B7: =1-$B$6 -> 0.18867925 | C7: =1-$C$7
A9: 2단계 | B9: T=1yr | D9: =$B$1*$B$3 -> 36000 | E9: =$B$1*$B$3
D10: =MAX(D9-$B$2,0) -> 1000 | E10: =MAX(D9-$B$2,0)
A11: 주식가격 | B11: =$B$1 -> 30000
A12: 콜옵션가격 | B12: =(D10*$B$6+D13*$B$7)/(1+$B$5) -> 737.56432 | D12: =$B$1*$B$4 -> 20100 | E12: =$B$1*$B$4
B13: =(D10*$B$6+D13*$B$7)/(1+$B$5) | D13: =MAX(D12-$B$2,0) -> 0 | E13: =MAX(D12-$B$2,0)
A17: 3단계 | B17: T=0.5yr | F17: =$B$1*$B$3*$B$3 -> 43200 | G17: =$B$1*$B$3*$B$3
F18: =MAX(F17-$B$2,0) -> 8200 | G18: =MAX(F17-$B$2,0)
D20: =$B$1*$B$3 -> 36000 | F20: =$B$1*$B$3*$B$4 -> 24120
A21: 주식가격 | B21: =$B$1 -> 30000 | D21: =(F18*$B$6+F21*$B$7)/(1+$B$5/2) -> 6336.0288 | F21: =MAX(F20-$B$2,0) -> 0
A22: 콜옵션가격 | B22: =(D21*$B$6+D24*$B$7)/(1+$B$5/2) -> 4895.7635 | D22: =(F18*$B$6+F21*$B$7)/(1+$B$5/2)
B23: =(D21*$B$6+D24*$B$7)/(1+$B$5/2) | D23: =$B$1*$B$4 -> 20100 | F23: =$B$1*$B$4*$B$3 -> 24120
D24: =(F21*$B$6+F24*$B$7)/(1+$B$5/2) -> 0 | F24: =MAX(F23-$B$2,0) -> 0
F26: =$B$1*$B$4*$B$4 -> 13467
F27: =MAX(F26-$B$2,0) -> 0
B29: =(B6^2*F18+B6*B7*F21+B7*B6*F24+B7^2*F27)/(1+B5/2)^2 -> 4895.7635 | C29: =(B6^2*F18+B6*B7*F21+B7*B6*F24+B7^2*F27)/(1+B5/2)^2

Sheet 9-2 블랙숄즈
A1: 현재주가 | B1: 10000 | E1: 표준편차 | F1: 콜옵션가격 | G1: 현재주가 | H1: 콜옵션가격 | I1: 시간가치
A2: 행사가격 | B2: 9500 | F2: =B13 -> 1369.5273 | H2: =B13 -> 1369.5273 | I2: =B17 -> 869.52727
A3: 무위험이자율 | B3: 0.1 | E3: 0.1 | F3: 747.84667 | G3: 8000 | H3: 368.99645 | I3: 368.99645
A4: 만기까지 기간(년) | B4: 0.25 | E4: 0.15 | F4: 792.7283 | G4: 8500 | H4: 552.63103 | I4: 552.63103
A5: 표준편차 | B5: 0.5 | E5: 0.2 | F5: 857.92669 | G5: 9000 | H5: 781.87006 | I5: 781.87006
A6: 분산 | B6: =$B$5^2 -> 0.25 | E6: 0.25 | F6: 933.90175 | G6: 9500 | H6: 1055.2762 | I6: 1055.2762
A7: 배당률 | B7: 0 | E7: 0.3 | F7: 1015.918 | G7: 10000 | H7: 1369.5273 | I7: 869.52727
E8: 0.35 | F8: 1101.5659 | G8: 10500 | H8: 1720.1021 | I8: 720.1021
A9: d1 | B9: =(LN(B1/B2)+B3*B4)/(B5*SQRT(B4))+0.5*B5*SQRT(B4) -> 0.43017318 | C9: =(LN(B1/B2)+B3*B4)/(B5*SQRT(B4))+0.5*B5*SQRT(B4) | E9: 0.4 | F9: 1189.5223 | G9: 11000 | H9: 2101.922 | I9: 601.92196
A10: d2 | B10: =B9-B5*SQRT(B4) -> 0.18017318 | C10: =B9-B5*SQRT(B4) | E10: 0.45 | F10: 1279.0062 | G10: 11500 | H10: 2509.8641 | I10: 509.86409
A11: N(d1) | B11: =NORMSDIST(B9) -> 0.66646516 | C11: =NORMSDIST(B9) | E11: 0.5 | F11: 1369.5273 | G11: 12000 | H11: 2939.1189 | I11: 439.11894
A12: N(d2) | B12: =NORMSDIST(B10) -> 0.57149169 | C12: =NORMSDIST(B10) | E12: 0.55 | F12: 1460.7611 | G12: 12500 | H12: 3385.4011 | I12: 385.4011
A13: BS C= | B13: =B1*B11-B2*(EXP(-B3*B4))*B12 -> 1369.5273 | C13: =B1*B11-B2*(EXP(-B3*B4))*B12 | E13: 0.6 | F13: 1552.483 | G13: 13000 | H13: 3845.0427 | I13: 345.04267
A14: BS P= | B14: =B2*(1-B12)*EXP(-B3*B4)-B1*(1-B11) -> 634.97144 | C14: =B2*(1-B12)*EXP(-B3*B4)-B1*(1-B11) | E14: 0.65 | F14: 1644.5312 | G14: 13500 | H14: 4315.0031 | I14: 315.00314
E15: 0.7 | F15: 1736.7852 | G15: 14000 | H15: 4792.8268 | I15: 292.82682
A16: 내재가치 C | B16: =MAX(B1-B2,0) -> 500 | C16: =MAX(B1-B2,0) | E16: 0.75 | F16: 1829.1522 | G16: 14500 | H16: 5276.5726 | I16: 276.57256
A17: 시간가치 C | B17: =B13-B16 -> 869.52727 | C17: =B13-B16 | E17: 0.8 | F17: 1921.5587 | G17: 15000 | H17: 5764.7333 | I17: 264.73335
A19: 내재가치 P | B19: =MAX(B2-B1,0) -> 0 | C19: =MAX(B2-B1,0) | E19: 행사가격 | F19: 콜옵션가격 | G19: 시간가치 | H19: 무위험이자율 | I19: 콜옵션가격 | J19: 만기까지기간 | K19: 콜옵션가격
A20: 시간가치 P | B20: =B14-B19 -> 634.97144 | C20: =B14-B19 | F20: =B13 -> 1369.5273 | G20: =B17 -> 869.52727 | I20: =B13 -> 1369.5273 | K20: =B13 -> 1369.5273
E21: 8000 | F21: 2383.2014 | G21: 383.20144 | H21: 0.02 | I21: 1265.5199 | J21: 0.1 | K21: 953.91836
E22: 8500 | F22: 2007.052 | G22: 507.05197 | H22: 0.03 | I22: 1278.3094 | J22: 0.2 | K22: 1246.7559
E23: 9000 | F23: 1668.3901 | G23: 668.39012 | H23: 0.04 | I23: 1291.1602 | J23: 0.3 | K23: 1482.4684
E24: 9500 | F24: 1369.5273 | G24: 869.52727 | H24: 0.05 | I24: 1304.0721 | J24: 0.4 | K24: 1687.0418
E25: 10000 | F25: 1110.817 | G25: 1110.817 | H25: 0.06 | I25: 1317.0443 | J25: 0.5 | K25: 1871.0573
E26: 10500 | F26: 890.89305 | G26: 890.89305 | H26: 0.07 | I26: 1330.0765 | J26: 0.6 | K26: 2040.0808
E27: 11000 | F27: 707.06579 | G27: 707.06579 | H27: 0.08 | I27: 1343.168 | J27: 0.7 | K27: 2197.4756
E28: 11500 | F28: 555.77239 | G28: 555.77239 | H28: 0.09 | I28: 1356.3185 | J28: 0.8 | K28: 2345.4623
E29: 12000 | F29: 433.00063 | G29: 433.00063 | H29: 0.1 | I29: 1369.5273 | J29: 0.9 | K29: 2485.6007
E30: 12500 | F30: 334.63969 | G30: 334.63969 | H30: 0.11 | I30: 1382.7939 | J30: 1 | K30: 2619.038
E31: 13000 | F31: 256.73939 | G31: 256.73939 | H31: 0.12 | I31: 1396.1178 | J31: 1.1 | K31: 2746.6484
E32: 13500 | F32: 195.67926 | G32: 195.67926 | H32: 0.13 | I32: 1409.4985 | J32: 1.2 | K32: 2869.1168
... E35: 15000 | F35: 83.818242 | G35: 83.818242 | H35: 0.16 | I35: 1449.9754 | J35: 1.5 | K35: 3210.6893

Sheet 13-1 rebalancing
A1: 투자 설정
A2: 주식 | B2: 0.5
A3: 채권 | B3: 0.5
A4: 투자금액 | B4: 100
B6: 주식수익률 | C6: 채권수익률
A7: 1기 | B7: 0.2 | C7: -0.1
A8: 2기 시나리오 1 | B8: -0.2 | C8: 0.1
A9: 2기 시나리오 2 | B9: 0.2 | C9: 0.1
A10: 2기 시나리오 3 | B10: -0.2 | C10: -0.1
A11: 2기 시나리오 4 | B11: 0.2 | C11: -0.1
A13: 1. No rebalancing | B13: 주식 금액 | C13: 채권금액 | D13: 합계 | E13: 주식비율 | F13: 채권비율 | G13: 포트폴리오 수익률
A14: 1기 | B14: =$B$4*$B$2*(1+B7) -> 60 | C14: =$B$4*$B$3*(1+C7) -> 45 | D14: =B14+C14 -> 105 | E14: =B14/(B14+C14) -> 0.57142857 | F14: =1-E14 -> 0.42857143 | G14: =(D14-B4)/B4 -> 0.05
A15: 2기 시나리오 1 | B15: =$B$14*(1+B8) -> 48 | C15: =$C$14*(1+C8) -> 49.5 | D15: =B15+C15 -> 97.5 | E15: =B15/(B15+C15) -> 0.49230769 | F15: =1-E15 -> 0.50769231 | G15: =(D15-$D$14)/$D$14 -> -0.071428571
A16: 2기 시나리오 2 | B16: =$B$14*(1+B9) -> 72 | C16: =$C$14*(1+C9) -> 49.5 | D16: =B16+C16 -> 121.5 | E16: =B16/(B16+C16) -> 0.59259259 | F16: =1-E16 -> 0.40740741 | G16: =(D16-$D$14)/$D$14 -> 0.15714286
A17: 2기 시나리오 3 | B17: =$B$14*(1+B10) -> 48 | C17: =$C$14*(1+C10) -> 40.5 | D17: =B17+C17 -> 88.5 | E17: =B17/(B17+C17) -> 0.54237288 | F17: =1-E17 -> 0.45762712 | G17: =(D17-$D$14)/$D$14 -> -0.15714286
A18: 2기 시나리오 4 | B18: =$B$14*(1+B11) -> 72 | C18: =$C$14*(1+C11) -> 40.5 | D18: =B18+C18 -> 112.5 | E18: =B18/(B18+C18) -> 0.64 | F18: =1-E18 -> 0.36 | G18: =(D18-$D$14)/$D$14 -> 0.071428571
A20: 2. 고정비율 Rebalancing | B20: 주식금액 | C20: 채권금액 | D20: 합계 | E20: 조정된 주식 | F20: 조정된 채권 | G20: 포트폴리오 수익률
A21: 1기 | B21: =B4*B2*(1+B7) -> 60 | C21: =B4*B3*(1+C7) -> 45 | D21: =B21+C21 -> 105 | E21: =(B21+C21)*$B$2 -> 52.5 | F21: =(B21+C21)*$B$3 -> 52.5 | G21: =(D21-B4)/B4 -> 0.05
A22: 2기 시나리오 1 | B22: =$E$21*(1+B8) -> 42 | C22: =$F$21*(1+C8) -> 57.75 | D22: =B22+C22 -> 99.75 | E22: =(B22+C22)*$B$2 -> 49.875 | F22: =(B22+C22)*$B$3 -> 49.875 | G22: =(D22-$D$21)/$D$21 -> -0.05
A23: 2기 시나리오 2 | B23: =$E$21*(1+B9) -> 63 | C23: =$F$21*(1+C9) -> 57.75 | D23: =B23+C23 -> 120.75 | E23: =(B23+C23)*$B$2 -> 60.375 | F23: =(B23+C23)*$B$3 -> 60.375 | G23: =(D23-$D$21)/$D$21 -> 0.15
A24: 2기 시나리오 3 | B24: =$E$21*(1+B10) -> 42 | C24: =$F$21*(1+C10) -> 47.25 | D24: =B24+C24 -> 89.25 | E24: =(B24+C24)*$B$2 -> 44.625 | F24: =(B24+C24)*$B$3 -> 44.625 | G24: =(D24-$D$21)/$D$21 -> -0.15
A25: 2기 시나리오 4 | B25: =$E$21*(1+B11) -> 63 | C25: =$F$21*(1+C11) -> 47.25 | D25: =B25+C25 -> 110.25 | E25: =(B25+C25)*$B$2 -> 55.125 | F25: =(B25+C25)*$B$3 -> 55.125 | G25: =(D25-$D$21)/$D$21 -> 0.05

Sheet 13-2 가중수익률
A1: 투자 결과
A3: 1. 금액가중
A4: 기간 | B4: 투자금액 | C4: 투자수익 | D4: 순현금흐름
A5: 0 | B5: 5000 | C5: 0 | D5: =C5-B5 -> -5000
A6: 1 | B6: 5300 | C6: 200 | D6: =C6-B6 -> -5100
A7: 2 | B7: 0 | C7: 11200 | D7: =C7-B7 -> 11200
A9: IRR(금액가중) | B9: =IRR(D5:D7) -> 0.071170453 | C9: =IRR(D6:D8)
A11: 2. 시간가중
A12: 기간 | B12: 기초주가 | C12: 배당금 | D12: 평가수익
A13: 0 | B13: 5000
A14: 1 | B14: 5300 | C14: 200 | D14: =(C14+B14-B13)/B13 -> 0.1
A15: 2 | B15: 5400 | C15: 200 | D15: =(B15+C15-B14)/B14 -> 0.056603774
A17: 시간가중수익률 | B17: =(D14+D15)/2 -> 0.078301887 | C17: =(D17+D18)/2

Sheet 13-3 산술평균기하평균
A1: 투자수익률 결과
A3: 기간 | B3: 수익률 | C3: 1+R
A4: 1 | B4: =0.1 -> 0.1 | C4: =1+B4 -> 1.1
A5: 2 | B5: =0.0566 -> 0.0566 | C5: =1+B5 -> 1.0566
A7: 산술평균 | B7: =AVERAGE(B4:B5) -> 0.0783 | C7: =AVERAGE(B4:B5)
A8: 기하평균 | B8: =GEOMEAN(C4:C5)-1 -> 0.07808163 | C8: =GEOMEAN(C4:C5)-1
